BEGIN:VCALENDAR
VERSION:2.0
PRODID:-//ChamberMaster//Event Calendar 2.0//EN
METHOD:PUBLISH
X-PUBLISHED-TTL:P3D
REFRESH-INTERVAL:P3D
CALSCALE:GREGORIAN
BEGIN:VEVENT
DTSTART:20080308T150000Z
DTEND:20080308T163000Z
X-MICROSOFT-CDO-ALLDAYEVENT:FALSE
SUMMARY:Breakfast with the Bunny
DESCRIPTION:Hop over and enjoy breakfast\, activities and pictures with the Bunny. Breakfast will consist of pancakes\, sausage\, and milk or juice. Don't forget to bring your camera to capture the memories. Registration required\; space is limited. All children must be supervised by an adult. Register at the Cary Park District Community Center\, 255 Briargate Road\, Cary.
X-ALT-DESC;FMTTYPE=text/html:Hop over and enjoy breakfast\, activities and pictures with the Bunny. Breakfast will consist of pancakes\, sausage\, and milk or juice. Don't forget to bring your camera to capture the memories. Registration required\; space is limited. All children must be supervised by an adult. Register at the Cary Park District Community Center\, 255 Briargate Road\, Cary.
LOCATION:Kraus Senior Center\, 441 W. Main Street\, Cary
UID:e.138.193
SEQUENCE:3
DTSTAMP:20260425T181115Z
URL:https://business.carygrovechamber.com/events/details/breakfast-with-the-bunny-03-08-2008-193
END:VEVENT

END:VCALENDAR
