BEGIN:VCALENDAR
VERSION:2.0
PRODID:-//ChamberMaster//Event Calendar 2.0//EN
METHOD:PUBLISH
X-PUBLISHED-TTL:P3D
REFRESH-INTERVAL:P3D
CALSCALE:GREGORIAN
BEGIN:VEVENT
DTSTART;VALUE=DATE:20090405
DTEND;VALUE=DATE:20090406
TRANSP:TRANSPARENT
X-MICROSOFT-CDO-ALLDAYEVENT:TRUE
SUMMARY:Breakfast with the Bunny at Chalet Hills
DESCRIPTION:Breakfast With the Bunny  Come to a pre-Easter celebration at Chalet Hills Golf Club. Designed for the kid in all of us\, we are offering a complete package for a morning filled with fun.  April 5\, 2009  9:15-9:45 Seating & Buffet10:30-11:00 Photos with the Easter Bunny11:00 Egg Hunt on the KnollPrice: $19.95 Adult   $9.95 Child   Package Includes:  Full Breakfast Buffet including traditional breakfast foods\, Fresh Donut Decoration Station & seasonal fruit.  Photo with the Easter Bunny  Egg Hunt on the Knoll  Games & Activities   Reservations will be accepted until April 1. For Reservations pleasecontact: Mary Alice at 847-639-0666 x 2
X-ALT-DESC;FMTTYPE=text/html:<div align="center"><strong><font size="4">Breakfast With the Bunny</font></strong></div><div align="center"><strong><font size="3">&nbsp\; </font></strong></div><div align="center"><span style="language: en-US"><font size="4">Come to a pre-Easter celebration at Chalet Hills Golf Club.&nbsp\;Designed for the kid in all of us\, we are offering a complete package for a morning filled with fun.&nbsp\;</font></span></div><div align="center"><font size="4">&nbsp\;</font></div><div align="center"><span style="font-weight: bold\; language: en-US"><font size="4">April 5\, 2009</font></span></div><div align="center"><font size="4">&nbsp\;</font></div><div align="center"><span style="font-weight: bold\; language: en-US"><font size="4">&nbsp\;9:15-9:45 Seating &amp\; Buffet</font></span></div><div align="center"><span style="font-weight: bold\; language: en-US"><font size="4">10:30-11:00 Photos with the Easter Bunny</font></span></div><div align="center"><span style="font-weight: bold\; language: en-US"><font size="4">11:00&nbsp\;Egg Hunt on the Knoll</font></span></div><div align="center"><span style="font-weight: bold\; language: en-US"><font size="4">Price:&nbsp\;$19.95 Adult&nbsp\;&nbsp\; $9.95 Child</font></span></div><div align="center">&nbsp\;</div><div align="center"><span style="font-weight: bold\; language: en-US">&nbsp\; <div align="left"><strong><font size="5"><span style="font-size: 10.5pt\; color: #ff3300\; language: en-US">Package Includes:</span></font></strong></div><div style="margin-left: 18pt\; text-indent: -18pt" align="left"><strong><font size="5"><span style="font-size: 10.5pt\; color: #ff3300\; direction: ltr\; unicode-bidi: embed\; language: x-none">&middot\;</span>&nbsp\;<span style="font-size: 10.5pt\; color: #ff3300\; language: en-US">Full Breakfast Buffet including traditional breakfast foods\, Fresh Donut Decoration Station &amp\; seasonal fruit.</span></font></strong></div><div style="margin-left: 18pt\; text-indent: -18pt" align="left"><strong><font size="5"><span style="font-size: 10.5pt\; color: #ff3300\; direction: ltr\; unicode-bidi: embed\; language: x-none">&middot\;</span>&nbsp\;<span style="font-size: 10.5pt\; color: #ff3300\; language: en-US">Photo with the Easter Bunny</span></font></strong></div><div style="margin-left: 18pt\; text-indent: -18pt" align="left"><strong><font size="5"><span style="font-size: 10.5pt\; color: #ff3300\; direction: ltr\; unicode-bidi: embed\; language: x-none">&middot\;</span>&nbsp\;<span style="font-size: 10.5pt\; color: #ff3300\; language: en-US">Egg Hunt on the Knoll</span></font></strong></div><div style="margin-left: 18pt\; text-indent: -18pt" align="left"><strong><font size="5"><span style="font-size: 10.5pt\; color: #ff3300\; direction: ltr\; unicode-bidi: embed\; language: x-none">&middot\;</span>&nbsp\;<span style="font-size: 10.5pt\; color: #ff3300\; language: en-US">Games &amp\; Activities</span></font></strong></div><div style="margin-left: 18pt\; text-indent: -18pt" align="left">&nbsp\;</div><div style="margin-left: 18pt\; text-indent: -18pt" align="left"><strong><font size="5"><span style="font-size: 10.5pt\; color: #ff3300\; language: en-US">&nbsp\; <div><strong><font size="3"><span style="color: #009900\; language: en-US">Reservations will be accepted until April 1.&nbsp\;For Reservations please</span></font></strong></div><div><strong><font size="3"><span style="color: #009900\; language: en-US">contact:&nbsp\;Mary Alice at 847-639-0666 x 2</span></font></strong></div><div>&nbsp\;</div></span></font></strong></div><div>&nbsp\;</div></span></div><div align="center">&nbsp\;</div><div align="center">&nbsp\;</div>
LOCATION:Chalet Hills Golf Club943 Rawson Bridge Rd.Cary\, IL 60013
UID:e.138.422
SEQUENCE:3
DTSTAMP:20260424T231137Z
URL:https://business.carygrovechamber.com/events/details/breakfast-with-the-bunny-at-chalet-hills-04-05-2009-422
END:VEVENT

END:VCALENDAR
