BEGIN:VCALENDAR
VERSION:2.0
PRODID:-//ChamberMaster//Event Calendar 2.0//EN
METHOD:PUBLISH
X-PUBLISHED-TTL:P3D
REFRESH-INTERVAL:P3D
CALSCALE:GREGORIAN
BEGIN:VEVENT
DTSTART:20091213T160000Z
DTEND:20091213T200000Z
X-MICROSOFT-CDO-ALLDAYEVENT:FALSE
SUMMARY:Brunch with Santa at The Onion Pub & Brewery
DESCRIPTION:Bring tradition close to home - visit with Santa while enjoying brunch at The Onion Pub & Brewery.  Special Children's Buffet\, 14' Lighted Tree\, and pictures with Santa.
X-ALT-DESC;FMTTYPE=text/html:Bring tradition close to home - visit with Santa while enjoying brunch at The Onion Pub & Brewery.  Special Children's Buffet\, 14' Lighted Tree\, and pictures with Santa.
LOCATION:22221 N. Pepper Road\, Lake Barrington
UID:e.138.623
SEQUENCE:3
DTSTAMP:20260424T125835Z
URL:https://business.carygrovechamber.com/events/details/brunch-with-santa-at-the-onion-pub-brewery-12-13-2009-623
END:VEVENT

END:VCALENDAR
