BEGIN:VCALENDAR
VERSION:2.0
PRODID:-//ChamberMaster//Event Calendar 2.0//EN
METHOD:PUBLISH
X-PUBLISHED-TTL:P3D
REFRESH-INTERVAL:P3D
CALSCALE:GREGORIAN
BEGIN:VEVENT
DTSTART:20090503T140000Z
DTEND:20090503T160000Z
X-MICROSOFT-CDO-ALLDAYEVENT:FALSE
SUMMARY:Brunch with the Brides
DESCRIPTION:A "Brunch with the Brides" event is scheduled for Sunday\, May 3 from 9 to 11 a.m.  at Chalet Hills Golf Club.    This bridal show is for those just starting their wedding planning.  Get it all done in one day in one room with numerous vendors including florists\, stationers\, reception sites\, beauty services\, calligraphers\, photographers\, DJs\, bakers & more.  Seating is limited.  To reserve your spot\, call Alison at (847) 639-0666\, ext. 6 or e-mail mchenryweddings@yahoo.com.
X-ALT-DESC;FMTTYPE=text/html:<p class="MsoNormal" style="margin: 0in 0in 0pt\; line-height: 14.4pt"><span style="font-size: 11pt\; color: black\; font-family: &quot\;Arial&quot\;\,&quot\;sans-serif&quot\;\; mso-bidi-font-size: 12.0pt\; mso-bidi-font-family: 'Times New Roman'">A &ldquo\;Brunch with the Brides&rdquo\; event is scheduled for Sunday\, May 3 from <st1:time w:st="on" minute="0" hour="9">9</st1:time> to <st1:time w:st="on" minute="0" hour="11">11 a.m.</st1:time><span style="mso-spacerun: yes">&nbsp\; at Chalet Hills Golf Club.&nbsp\;&nbsp\;&nbsp\; </span>This bridal show is for those just starting their wedding planning.<span style="mso-spacerun: yes">&nbsp\; </span>Get it all done in one day in one room with numerous vendors including florists\, stationers\, reception sites\, beauty services\, calligraphers\, photographers\, DJs\, bakers &amp\; more.<span style="mso-spacerun: yes">&nbsp\; </span>Seating is limited.<span style="mso-spacerun: yes">&nbsp\; </span>To reserve your spot\, call Alison at (847) 639-0666\, ext. 6 or e-mail <a href="mailto:mchenryweddings@yahoo.com"><span style="color: black">mchenryweddings@yahoo.com</span></a>. <o:p></o:p></span></p><p class="MsoNormal" style="margin: 0in 0in 0pt\; line-height: 14.4pt"><span style="font-size: 11pt\; color: black\; font-family: &quot\;Arial&quot\;\,&quot\;sans-serif&quot\;\; mso-bidi-font-size: 12.0pt\; mso-bidi-font-family: 'Times New Roman'"><o:p>&nbsp\;</o:p></span></p>
LOCATION:943 Rawson Bridge Rd.\, Cary
UID:e.138.449
SEQUENCE:3
DTSTAMP:20260424T214648Z
URL:https://business.carygrovechamber.com/events/details/brunch-with-the-brides-05-03-2009-449
END:VEVENT

END:VCALENDAR
