BEGIN:VCALENDAR
VERSION:2.0
PRODID:-//ChamberMaster//Event Calendar 2.0//EN
METHOD:PUBLISH
X-PUBLISHED-TTL:P3D
REFRESH-INTERVAL:P3D
CALSCALE:GREGORIAN
BEGIN:VEVENT
DTSTART:20080408T220000Z
DTEND:20080409T010000Z
X-MICROSOFT-CDO-ALLDAYEVENT:FALSE
SUMMARY:Brunswick Zone XL Multi-Chamber Mixer
DESCRIPTION:A multi-chamber mixer will be held on Tuesday\, April 8 from 5 to 8 p.m.\, hosted by Brunswick Zone XL\, located at 1611 S. Randall Road in Algonquin.  This is a great opportunity to see their brand new entertainment center.  Stop over and mingle with other Chamber members.  Hope to see you there!
X-ALT-DESC;FMTTYPE=text/html:<p style="text-justify: inter-ideograph\; margin: 0in 0in 0pt\; text-align: justify"><span style="font-size: 11pt\; font-family: &quot\;Arial&quot\;\,&quot\;sans-serif&quot\;\; mso-bidi-font-family: &rsquo\;Times New Roman&rsquo\;">A multi-chamber mixer will be held on Tuesday\, April 8 from <st1:time hour="17" minute="0" w:st="on">5</st1:time> to&nbsp\;8<st1:time hour="19" minute="0" w:st="on"> p.m.</st1:time>\, hosted by <strong style="mso-bidi-font-weight: normal">Brunswick Zone XL</strong>\, located at <st1:street w:st="on"><st1:address w:st="on">1611 S. Randall Road</st1:address></st1:street> in Algonquin.<span style="mso-spacerun: yes">&nbsp\; </span>This is a great opportunity to see their brand new entertainment center. <span style="mso-spacerun: yes">&nbsp\;</span>Stop over and mingle with other Chamber members.<span style="mso-spacerun: yes">&nbsp\; </span>Hope to see you there!<o:p></o:p></span></p><p class="MsoNormalCxSpFirst" style="margin: auto 0in\; word-break: normal\; text-align: left" align="left"><strong style="mso-bidi-font-weight: normal"><span style="font-size: 12pt\; font-family: &quot\;Arial&quot\;\,&quot\;sans-serif&quot\;"><o:p>&nbsp\;</o:p></span></strong></p>
LOCATION:1611 Randall Road\, Algonquin
UID:e.138.213
SEQUENCE:3
DTSTAMP:20260425T152518Z
URL:https://business.carygrovechamber.com/events/details/brunswick-zone-xl-multi-chamber-mixer-04-08-2008-213
END:VEVENT

END:VCALENDAR
