BEGIN:VCALENDAR
VERSION:2.0
PRODID:-//ChamberMaster//Event Calendar 2.0//EN
METHOD:PUBLISH
X-PUBLISHED-TTL:P3D
REFRESH-INTERVAL:P3D
CALSCALE:GREGORIAN
BEGIN:VEVENT
DTSTART:20190828T230000Z
DTEND:20190829T020000Z
X-MICROSOFT-CDO-ALLDAYEVENT:FALSE
SUMMARY:Buying a Business - A Different Path to Entrepreneurship
DESCRIPTION:Being an entrepreneur doesn't mean that you have to start your business from scratch. Buying an existing business can often be less risky and just might be the best path to entrepreneurship for you. Learn how to identify businesses for sale\, how to assess and value the business and how to obtain the capital you need to buy the business.
X-ALT-DESC;FMTTYPE=text/html:<span style="font-family:calibri\,sans-serif"><span style="font-size:11.0pt">Being an entrepreneur doesn&rsquo\;t mean that you have to start your business from scratch. Buying an existing business can often be less risky and just might be the best path to entrepreneurship for you. Learn how to identify businesses for sale\, how to assess and value the business and how to obtain the capital you need to buy the business</span><span style="font-size:12.0pt">. &nbsp\;</span></span>
LOCATION:McHenry County College Shah Center 4100 W. Shamrock Lane McHenry\, IL 60050
UID:e.138.10119
SEQUENCE:3
DTSTAMP:20260419T150604Z
URL:https://business.carygrovechamber.com/events/details/buying-a-business-a-different-path-to-entrepreneurship-10119
END:VEVENT

END:VCALENDAR
