BEGIN:VCALENDAR
VERSION:2.0
PRODID:-//ChamberMaster//Event Calendar 2.0//EN
METHOD:PUBLISH
X-PUBLISHED-TTL:P3D
REFRESH-INTERVAL:P3D
CALSCALE:GREGORIAN
BEGIN:VEVENT
DTSTART:20080828T170000Z
DTEND:20080828T190000Z
X-MICROSOFT-CDO-ALLDAYEVENT:FALSE
SUMMARY:CAbi Fashion Show at La Strada Ristorante
DESCRIPTION:CAbi Fashion Show and Luncheon:You and a guest are invited to preview the new Fall 2008 CAbi collection presented by Independent Fashion Consultant Cindy Scheitlin Date and Time:Thursday\, August 28th at 12:00 noonLocation:La Strada Ristorante2380 Lakewood Blvd. at Barrington Rd. in Hoffman Estates For information call (847) 765-1700 or visit http://www.LaStradaRistorante.com Menu and Cost:$20.00 per person inclusive of taxes and gratuities Luncheon served with your choice of:      Grilled Chicken Caesar      Penne Pasta Primavera with fresh cut vegetables\, tomato cream sauce      Roasted Salmon\, veggies and potatoes La Strada Italian Chardonnay and Cabernet Sauvignon will be served with lunch. Cash bar will be available for other beverages. Fresh fruit\, brownies and cookies served with coffee. RSVP:Please RSVP to Cindy at (847) 277-0041 or email czscheitlin@comcast.net no later than Monday\, August 25th by 4:00pm and reserve your table today. Limited seating available. Include your name\,number of guests\, choice of entr e(s)\, and your phone number. Looking forward to seeing you there!
X-ALT-DESC;FMTTYPE=text/html:<div><div style="margin: 0in 0in 0pt">CAbi Fashion Show and Luncheon:</div><div style="margin: 0in 0in 0pt">You and a guest are invited to preview the new Fall 2008 CAbi collection presented by Independent Fashion Consultant Cindy Scheitlin</div><div style="margin: 0in 0in 0pt">&nbsp\;</div><div style="margin: 0in 0in 0pt">Date and Time:</div><div style="margin: 0in 0in 0pt">Thursday\, August 28th at 12:00 noon</div><div style="margin: 0in 0in 0pt">Location:</div><div style="margin: 0in 0in 0pt">La Strada Ristorante</div><div style="margin: 0in 0in 0pt">2380 Lakewood Blvd. at Barrington Rd. in Hoffman Estates For information call (847) 765-1700 or visit&nbsp\;<a href="http://www.lastradaristorante.com/">http://www.LaStradaRistorante.com</a></div><div style="margin: 0in 0in 0pt">&nbsp\;</div><div style="margin: 0in 0in 0pt">Menu and Cost:</div><div style="margin: 0in 0in 0pt">$20.00 per person inclusive of taxes and gratuities</div><div style="margin: 0in 0in 0pt">&nbsp\;</div><div style="margin: 0in 0in 0pt">Luncheon served with your choice of:</div><div style="margin: 0in 0in 0pt">&bull\;&nbsp\;&nbsp\;&nbsp\;&nbsp\; Grilled Chicken Caesar</div><div style="margin: 0in 0in 0pt">&bull\;&nbsp\;&nbsp\;&nbsp\;&nbsp\; Penne Pasta Primavera with fresh cut vegetables\, tomato cream sauce</div><div style="margin: 0in 0in 0pt">&bull\;&nbsp\;&nbsp\;&nbsp\;&nbsp\; Roasted Salmon\, veggies and potatoes</div><div style="margin: 0in 0in 0pt">&nbsp\;</div><div style="margin: 0in 0in 0pt">La Strada Italian Chardonnay and Cabernet Sauvignon will be served with lunch.&nbsp\;Cash bar will be available for other beverages.</div><div style="margin: 0in 0in 0pt">&nbsp\;</div><div style="margin: 0in 0in 0pt">Fresh fruit\, brownies and cookies served with coffee.</div><div style="margin: 0in 0in 0pt">&nbsp\;</div><div style="margin: 0in 0in 0pt">RSVP:</div><div style="margin: 0in 0in 0pt">Please RSVP to Cindy at (847) 277-0041 or email <a href="mailto:czscheitlin@comcast.net">czscheitlin@comcast.net</a> no later than Monday\, August 25th by 4:00pm and reserve your table today.&nbsp\;Limited seating available.&nbsp\;Include your name\,number of guests\, choice of entr&eacute\;e(s)\, and your phone number.</div><div style="margin: 0in 0in 0pt">&nbsp\;</div><div style="margin: 0in 0in 0pt">Looking forward to seeing you there!</div></div><div>&nbsp\;</div><div>&nbsp\;</div><div>&nbsp\;</div>
LOCATION:La Strada Ristorante in Hoffman Estates at 2380 Lakewood Blvd. (at Barrington Rd.)
UID:e.138.303
SEQUENCE:3
DTSTAMP:20260425T105440Z
URL:https://business.carygrovechamber.com/events/details/cabi-fashion-show-at-la-strada-ristorante-08-28-2008-303
END:VEVENT

END:VCALENDAR
