BEGIN:VCALENDAR
VERSION:2.0
PRODID:-//ChamberMaster//Event Calendar 2.0//EN
METHOD:PUBLISH
X-PUBLISHED-TTL:P3D
REFRESH-INTERVAL:P3D
CALSCALE:GREGORIAN
BEGIN:VEVENT
DTSTART;VALUE=DATE:20090914
DTEND;VALUE=DATE:20091017
TRANSP:TRANSPARENT
X-MICROSOFT-CDO-ALLDAYEVENT:TRUE
SUMMARY:Car or Cash Raffle - Cary Grove Booster Club
DESCRIPTION:Cary-Grove Booster Club Car or Cash RaffleGet your tickets now for the Cary-Grove Booster Club Car or Cash Raffle!  Tickets are $100 per ticket for a chance to win a Pontiac G6 or $10\,000.  A maximum of 400 tickets will be sold.  Drawing will be held on October 16 at the Cary-Grove Home football game.  Proceeds to benefit student activities at CGHS. Since 1991\, the Boosters have donated over $290\,000 to CGHS student activities. To purchase tickets\, call (847) 471-0575\, visit the Boosters booth at the Cary-Grove home football games on October 9 and 16\, stop in Century 21/Sketchbook office on Route 14 in Cary\, or mail a check to Patrick Friedline\, 9 Deerpath Court\, Cary\, IL 60013.  Winner need not be present to win.
X-ALT-DESC;FMTTYPE=text/html:<div><div><strong><font size="4">Cary-Grove Booster Club Car or Cash Raffle</font></strong></div><div><font size="4">Get your tickets now for the <strong>Cary-Grove Booster Club</strong> Car or Cash Raffle!&nbsp\; Tickets are $100 per ticket for a chance to win a Pontiac G6 or $10\,000.&nbsp\; A maximum of 400 tickets will be sold.&nbsp\; Drawing will be held on October 16 at the Cary-Grove Home football game.&nbsp\; Proceeds to benefit student activities at CGHS.&nbsp\;Since 1991\, the&nbsp\;Boosters have donated over $290\,000 to CGHS student activities.&nbsp\;To&nbsp\;purchase&nbsp\;tickets\, call&nbsp\;(847) 471-0575\, visit the Boosters booth at the Cary-Grove home football games on October 9 and 16\, stop in <strong>Century 21/Sketchbook</strong> office on Route 14 in Cary\, or mail a check to Patrick Friedline\, 9 Deerpath Court\,&nbsp\;Cary\, IL 60013.&nbsp\; Winner need not be present to win.</font></div><div>&nbsp\;</div></div>
LOCATION:Drawing will be held on October 16 at the Cary-Grove Home football game.
UID:e.138.574
SEQUENCE:3
DTSTAMP:20260424T153614Z
URL:https://business.carygrovechamber.com/events/details/car-or-cash-raffle-cary-grove-booster-club-09-14-2009-574
END:VEVENT

END:VCALENDAR
