BEGIN:VCALENDAR
VERSION:2.0
PRODID:-//ChamberMaster//Event Calendar 2.0//EN
METHOD:PUBLISH
X-PUBLISHED-TTL:P3D
REFRESH-INTERVAL:P3D
CALSCALE:GREGORIAN
BEGIN:VEVENT
DTSTART:20070913T220000Z
DTEND:20070914T000000Z
X-MICROSOFT-CDO-ALLDAYEVENT:FALSE
SUMMARY:Car X Auto Service Mixer
DESCRIPTION:Car X Mixer
X-ALT-DESC;FMTTYPE=text/html:<div>Car X Mixer</div>
LOCATION:915 Route 22\, Fox River Grove (one block east of Route 14)
UID:e.138.120
SEQUENCE:3
DTSTAMP:20260426T005627Z
URL:https://business.carygrovechamber.com/events/details/car-x-auto-service-mixer-09-13-2007-120
END:VEVENT

END:VCALENDAR
