BEGIN:VCALENDAR
VERSION:2.0
PRODID:-//ChamberMaster//Event Calendar 2.0//EN
METHOD:PUBLISH
X-PUBLISHED-TTL:P3D
REFRESH-INTERVAL:P3D
CALSCALE:GREGORIAN
BEGIN:VEVENT
DTSTART:20090917T160000Z
DTEND:20090917T170000Z
X-MICROSOFT-CDO-ALLDAYEVENT:FALSE
SUMMARY:Careers in Culinary & Criminal Justice - FREE Seminar
DESCRIPTION:Careers in Culinary & Criminal Justice on Thursday\, September 17 from 11 a.m. to 12 noon. \nMcHenry County College Career Presents this informational seminar about careers in culinary and criminal justice at McHenry County Workforce Center\, 500 Russel Court in Woodstock. Call to reserve your spot!
X-ALT-DESC;FMTTYPE=text/html:Careers in Culinary & Criminal Justice on Thursday\, September 17 from 11 a.m. to 12 noon. \nMcHenry County College Career Presents this informational seminar about careers in culinary and criminal justice at McHenry County Workforce Center\, 500 Russel Court in Woodstock. Call to reserve your spot!
LOCATION:McHenry County Workforce Center\, 500 Russel Court in Woodstock
UID:e.138.569
SEQUENCE:3
DTSTAMP:20260424T163717Z
URL:https://business.carygrovechamber.com/events/details/careers-in-culinary-criminal-justice-free-seminar-09-17-2009-569
END:VEVENT

END:VCALENDAR
