BEGIN:VCALENDAR
VERSION:2.0
PRODID:-//ChamberMaster//Event Calendar 2.0//EN
METHOD:PUBLISH
X-PUBLISHED-TTL:P3D
REFRESH-INTERVAL:P3D
CALSCALE:GREGORIAN
BEGIN:VEVENT
DTSTART:20061212T060000Z
DTEND:20070426T050000Z
X-MICROSOFT-CDO-ALLDAYEVENT:FALSE
SUMMARY:Careers in the County
DESCRIPTION:The McHenry County Economic Development Corporation (MCEDC) will be hosting ''Careers in the County'' on April 25\, 2007.    ''Careers in the County''  is a one day event for high school sophomores to highlight the employment opportunities and career paths available in McHenry County.   They are currently looking for company participation\, volunteers\, and creative individuals to help plan and develop activities.    \n\nMany industries will be showcased\, including building trades\, healthcare\, manufacturing\, logistics and others with opportunites for hands-on interaction by the students.\n\nThis is an opportunity to drectly impact your future employees as well as grow leaders within your organization.\n\nFor more information or to register your company\, call (815) 363-0444.
X-ALT-DESC;FMTTYPE=text/html:The McHenry County Economic Development Corporation (MCEDC) will be hosting ''Careers in the County'' on April 25\, 2007.    ''Careers in the County''  is a one day event for high school sophomores to highlight the employment opportunities and career paths available in McHenry County.   They are currently looking for company participation\, volunteers\, and creative individuals to help plan and develop activities.    \n\nMany industries will be showcased\, including building trades\, healthcare\, manufacturing\, logistics and others with opportunites for hands-on interaction by the students.\n\nThis is an opportunity to drectly impact your future employees as well as grow leaders within your organization.\n\nFor more information or to register your company\, call (815) 363-0444.\n
LOCATION:
UID:e.138.33
SEQUENCE:3
DTSTAMP:20260425T190649Z
URL:https://business.carygrovechamber.com/events/details/careers-in-the-county-12-12-2006-33
END:VEVENT

END:VCALENDAR
