BEGIN:VCALENDAR
VERSION:2.0
PRODID:-//ChamberMaster//Event Calendar 2.0//EN
METHOD:PUBLISH
X-PUBLISHED-TTL:P3D
REFRESH-INTERVAL:P3D
CALSCALE:GREGORIAN
BEGIN:VEVENT
DTSTART:20080823T183000Z
DTEND:20080823T210000Z
X-MICROSOFT-CDO-ALLDAYEVENT:FALSE
SUMMARY:Cary Bank & Trust 5th Annual Community Cookout
DESCRIPTION:5th Annual Cary Bank & Trust Community Cookout1:30   4 p.m. 60 E. Main St.(Route 14)\, CaryFree.   Open to the community.    Music\, food and funInformation\, call (847) 462-8881.
X-ALT-DESC;FMTTYPE=text/html:<div style="margin: 0in 0in 0pt"><strong>5<sup>th</sup> Annual Cary Bank &amp\; Trust Community Cookout</strong></div><div style="margin: 0in 0in 0pt"><strong>1:30 &ndash\; 4 p.m. </strong></div><div style="margin: 0in 0in 0pt">60 E. Main St.(Route 14)\, Cary</div><div style="margin: 0in 0in 0pt">Free.&nbsp\;&nbsp\; Open to the community.&nbsp\;&nbsp\;&nbsp\; Music\, food and fun</div><div style="margin: 0in 0in 0pt">Information\, call (847) 462-8881.</div>
LOCATION:60 E. Main (Route 14)\, Cary
UID:e.138.278
SEQUENCE:3
DTSTAMP:20260425T105332Z
URL:https://business.carygrovechamber.com/events/details/cary-bank-trust-5th-annual-community-cookout-08-23-2008-278
END:VEVENT

END:VCALENDAR
