BEGIN:VCALENDAR
VERSION:2.0
PRODID:-//ChamberMaster//Event Calendar 2.0//EN
METHOD:PUBLISH
X-PUBLISHED-TTL:P3D
REFRESH-INTERVAL:P3D
CALSCALE:GREGORIAN
BEGIN:VEVENT
DTSTART:20190824T183000Z
DTEND:20190824T203000Z
X-MICROSOFT-CDO-ALLDAYEVENT:FALSE
SUMMARY:Cary Bank & Trust Community Cookout
DESCRIPTION:The Annual Community Cookout at Cary Bank & Trust is scheduled for Saturday\, August 24 from 1:30 to 3:30 p.m. in the Bank parking lot at 60 East Main Street in Cary. This fun-filled event is open to the community. Come meet your friends and neighbors for free burgers\, hotdogs\, chips\, soft drinks and music! For further information\, call (847) 462-8881.
X-ALT-DESC;FMTTYPE=text/html:<div>The Annual Community Cookout at Cary Bank &amp\; Trust is scheduled for Saturday\, August 24&nbsp\;from 1:30&nbsp\;to 3:30 p.m. in the Bank parking lot at 60 East Main Street in Cary. This fun-filled event is open to the community. Come meet your friends and neighbors for free burgers\, hotdogs\, chips\, soft drinks and music! For further information\, call (847) 462-8881.</div>\n
LOCATION:Cary Bank & Trust - Parking Lot 60 E. Main St.\, Cary
UID:e.138.10342
SEQUENCE:3
DTSTAMP:20260419T150605Z
URL:https://business.carygrovechamber.com/events/details/cary-bank-trust-community-cookout-10342
END:VEVENT

END:VCALENDAR
