BEGIN:VCALENDAR
VERSION:2.0
PRODID:-//ChamberMaster//Event Calendar 2.0//EN
METHOD:PUBLISH
X-PUBLISHED-TTL:P3D
REFRESH-INTERVAL:P3D
CALSCALE:GREGORIAN
BEGIN:VEVENT
DTSTART;VALUE=DATE:20100120
DTEND;VALUE=DATE:20100121
TRANSP:TRANSPARENT
X-MICROSOFT-CDO-ALLDAYEVENT:TRUE
SUMMARY:Cary Business Roundtable with Mayor Tom Kierna
DESCRIPTION:Cary Business Roundtable with speaker Mayor Tom Kierna. He will present\, "A State of the Community Address" on Wednesday\, January 20 at 12 noon at Wool Street Grill & Sports Bar\, 800 Feinberg Ct.\, Cary. Cost is $20 per person and includes lunch. Call the Chamber to register at (847) 639-2800.
X-ALT-DESC;FMTTYPE=text/html:<div>Cary Business Roundtable with speaker Mayor Tom Kierna. He will present\, &quot\;A State of the Community Address&quot\; on Wednesday\, January 20 at 12 noon at Wool Street Grill &amp\; Sports Bar\, 800 Feinberg Ct.\, Cary. Cost is $20 per person and includes lunch. Call the Chamber to register at (847) 639-2800.</div>
LOCATION:Wool Street Grill & Sports Bar\, 800 Feinberg Ct. in Cary
UID:e.138.636
SEQUENCE:3
DTSTAMP:20260424T113347Z
URL:https://business.carygrovechamber.com/events/details/cary-business-roundtable-with-mayor-tom-kierna-01-20-2010-636
END:VEVENT

END:VCALENDAR
