BEGIN:VCALENDAR
VERSION:2.0
PRODID:-//ChamberMaster//Event Calendar 2.0//EN
METHOD:PUBLISH
X-PUBLISHED-TTL:P3D
REFRESH-INTERVAL:P3D
CALSCALE:GREGORIAN
BEGIN:VEVENT
DTSTART:20100714T230000Z
DTEND:20100715T013000Z
X-MICROSOFT-CDO-ALLDAYEVENT:FALSE
SUMMARY:Cary Cruise Night - All Bike Night
DESCRIPTION:Cary Cruise Night - All Bike Night
X-ALT-DESC;FMTTYPE=text/html:<p class="MsoNormal" style="margin: 0in 0in 0pt"><font size="3"><font face="Times New Roman"><font size="4">Cary Cruise Night</font><st1:city><st1:place><font size="4"> -&nbsp\;All Bike Night</font><br /></st1:place></st1:city><st1:time hour="18" minute="30"><br /><span style="mso-tab-count: 1">&nbsp\;</span></st1:time></font></font></p>
LOCATION:Downtown Cary on West Main Street
UID:e.138.95
SEQUENCE:3
DTSTAMP:20260424T020555Z
URL:https://business.carygrovechamber.com/events/details/cary-cruise-night-all-bike-night-07-14-2010-95
END:VEVENT

END:VCALENDAR
