BEGIN:VCALENDAR
VERSION:2.0
PRODID:-//ChamberMaster//Event Calendar 2.0//EN
METHOD:PUBLISH
X-PUBLISHED-TTL:P3D
REFRESH-INTERVAL:P3D
CALSCALE:GREGORIAN
BEGIN:VEVENT
DTSTART:20100602T230000Z
DTEND:20100819T013000Z
X-MICROSOFT-CDO-ALLDAYEVENT:FALSE
SUMMARY:Cary Cruise Night - Every Wednesday
DESCRIPTION:Cary Cruise Night   Downtown Cary\n Cary Cruise Night is held every Wednesday all Summer long from  6:00 - 8:30 p.m. on West Main Street in Downtown Cary.  Cruise Night begins on June 2 and ends on August 18. Judging is available each night for themed cars only\n All classic and antique cars are welcome every night
X-ALT-DESC;FMTTYPE=text/html:<p class="MsoNormal" style="margin: 0in 0in 0pt"><font size="3"><font face="Times New Roman"><font size="4">Cary Cruise Night &ndash\; Downtown </font><st1:city><st1:place><font size="4">Cary<br /></font></st1:place></st1:city></font></font></p><p class="MsoNormal" style="margin: 0in 0in 0pt">&nbsp\;</p><p class="MsoNormal" style="margin: 0in 0in 0pt"><font size="3"><font face="Times New Roman"><st1:city><st1:place>Cary Cruise Night is&nbsp\;held every Wednesday all Summer long from&nbsp\;</st1:place></st1:city>&nbsp\;<st1:time hour="18" minute="30">6:00 - 8:30 p.m. on West Main Street in Downtown Cary.&nbsp\;</st1:time></font></font></p><p class="MsoNormal" style="margin: 0in 0in 0pt">&nbsp\;</p><p class="MsoNormal" style="margin: 0in 0in 0pt"><font size="3"><font face="Times New Roman"><st1:time hour="18" minute="30">Cruise&nbsp\;Night begins on June 2 and ends on August 18.</st1:time></font></font></p><p class="MsoNormal" style="margin: 0in 0in 0pt">&nbsp\;</p><p class="MsoNormal" style="margin: 0in 0in 0pt"><font size="3"><font face="Times New Roman"><st1:time hour="18" minute="30">Judging is available each night for themed cars only<br /></st1:time></font></font></p><p class="MsoNormal" style="margin: 0in 0in 0pt">&nbsp\;</p><p class="MsoNormal" style="margin: 0in 0in 0pt"><font size="3"><font face="Times New Roman"><st1:time hour="18" minute="30">All classic and antique cars are welcome every night<br /><br /><span style="mso-tab-count: 1">&nbsp\;</span></st1:time></font></font></p>
LOCATION:Downtown Cary on West Main Street
UID:e.138.242
SEQUENCE:3
DTSTAMP:20260424T004053Z
URL:https://business.carygrovechamber.com/events/details/cary-cruise-night-every-wednesday-06-02-2010-242
END:VEVENT

END:VCALENDAR
