BEGIN:VCALENDAR
VERSION:2.0
PRODID:-//ChamberMaster//Event Calendar 2.0//EN
METHOD:PUBLISH
X-PUBLISHED-TTL:P3D
REFRESH-INTERVAL:P3D
CALSCALE:GREGORIAN
BEGIN:VEVENT
DTSTART:20100728T230000Z
DTEND:20100729T013000Z
X-MICROSOFT-CDO-ALLDAYEVENT:FALSE
SUMMARY:Cary Cruise Night - Ford / Mustang/ Cobra Night
DESCRIPTION:Cary Cruise Night - Ford / Mustang / Cobra Night
X-ALT-DESC;FMTTYPE=text/html:<div><font size="4">Cary Cruise Night - Ford /&nbsp\;Mustang / Cobra Night</font></div>
LOCATION:On West Main Street in downtown Cary
UID:e.138.92
SEQUENCE:3
DTSTAMP:20260424T020446Z
URL:https://business.carygrovechamber.com/events/details/cary-cruise-night-ford-mustang-cobra-night-07-28-2010-92
END:VEVENT

END:VCALENDAR
