BEGIN:VCALENDAR
VERSION:2.0
PRODID:-//ChamberMaster//Event Calendar 2.0//EN
METHOD:PUBLISH
X-PUBLISHED-TTL:P3D
REFRESH-INTERVAL:P3D
CALSCALE:GREGORIAN
BEGIN:VEVENT
DTSTART:20100707T233000Z
DTEND:20100708T020000Z
X-MICROSOFT-CDO-ALLDAYEVENT:FALSE
SUMMARY:Cary Cruise Night - Import Sports Car Night
DESCRIPTION:Cary Cruise Night - Import Sports Car Night Featuring Mini-Business Expo.  Stop by vendor tables and learn more about their products and services.
X-ALT-DESC;FMTTYPE=text/html:<div><font size="4">Cary Cruise Night -&nbsp\;Import Sports Car Night</font></div><div>&nbsp\;</div><div><font size="4">Featuring Mini-Business Expo.&nbsp\; Stop by vendor tables and learn more about their products and services.</font></div>
LOCATION:On West Main Street in downtown Cary
UID:e.138.90
SEQUENCE:3
DTSTAMP:20260424T020602Z
URL:https://business.carygrovechamber.com/events/details/cary-cruise-night-import-sports-car-night-07-07-2010-90
END:VEVENT

END:VCALENDAR
