BEGIN:VCALENDAR
VERSION:2.0
PRODID:-//ChamberMaster//Event Calendar 2.0//EN
METHOD:PUBLISH
X-PUBLISHED-TTL:P3D
REFRESH-INTERVAL:P3D
CALSCALE:GREGORIAN
BEGIN:VEVENT
DTSTART:20100630T230000Z
DTEND:20100701T013000Z
X-MICROSOFT-CDO-ALLDAYEVENT:FALSE
SUMMARY:Cary Cruise Night - Mopar Car Night
DESCRIPTION:Cary Cruise NightMopar Car Night
X-ALT-DESC;FMTTYPE=text/html:<div><font size="4">Cary Cruise Night</font></div><div><font size="4">Mopar Car Night</font></div>
LOCATION:On West Main Street in downtown Cary
UID:e.138.273
SEQUENCE:3
DTSTAMP:20260424T032241Z
URL:https://business.carygrovechamber.com/events/details/cary-cruise-night-mopar-car-night-06-30-2010-273
END:VEVENT

END:VCALENDAR
