BEGIN:VCALENDAR
VERSION:2.0
PRODID:-//ChamberMaster//Event Calendar 2.0//EN
METHOD:PUBLISH
X-PUBLISHED-TTL:P3D
REFRESH-INTERVAL:P3D
CALSCALE:GREGORIAN
BEGIN:VEVENT
DTSTART:20100818T230000Z
DTEND:20100819T013000Z
X-MICROSOFT-CDO-ALLDAYEVENT:FALSE
SUMMARY:Cary Cruise Night - Winner's Circle! Display Your Ribbons at Last Cruise Night!
DESCRIPTION:Cary Cruise NightWinner's Circle! Display Your Ribbons at our Last Cruise Night for the Season
X-ALT-DESC;FMTTYPE=text/html:<div><font size="4">Cary Cruise Night</font></div><div><font size="4">Winner's Circle! Display Your Ribbons at our Last Cruise Night for the Season</font></div>
LOCATION:On West Main Street in downtown Cary
UID:e.138.252
SEQUENCE:3
DTSTAMP:20260424T004257Z
URL:https://business.carygrovechamber.com/events/details/cary-cruise-night-winner-s-circle-display-your-ribbons-at-last-cruise-night-08-18-2010-252
END:VEVENT

END:VCALENDAR
