BEGIN:VCALENDAR
VERSION:2.0
PRODID:-//ChamberMaster//Event Calendar 2.0//EN
METHOD:PUBLISH
X-PUBLISHED-TTL:P3D
REFRESH-INTERVAL:P3D
CALSCALE:GREGORIAN
BEGIN:VEVENT
DTSTART:20120627T230000Z
DTEND:20120628T013000Z
X-MICROSOFT-CDO-ALLDAYEVENT:FALSE
SUMMARY:Cary Cruise Nights
DESCRIPTION:Cary Cruise Nights
X-ALT-DESC;FMTTYPE=text/html:Cary Cruise Nights
LOCATION:West Main Street in downtown Cary
UID:e.138.3326
SEQUENCE:3
DTSTAMP:20260424T083241Z
URL:https://business.carygrovechamber.com/events/details/cary-cruise-nights-06-27-2012-3326
END:VEVENT

END:VCALENDAR
