BEGIN:VCALENDAR
VERSION:2.0
PRODID:-//ChamberMaster//Event Calendar 2.0//EN
METHOD:PUBLISH
X-PUBLISHED-TTL:P3D
REFRESH-INTERVAL:P3D
CALSCALE:GREGORIAN
BEGIN:VEVENT
DTSTART:20120711T230000Z
DTEND:20120712T013000Z
X-MICROSOFT-CDO-ALLDAYEVENT:FALSE
SUMMARY:Cary Cruise Nights
DESCRIPTION:Cary Cruise Nights
X-ALT-DESC;FMTTYPE=text/html:Cary Cruise Nights
LOCATION:West Main Street in downtown Cary
UID:e.138.3328
SEQUENCE:3
DTSTAMP:20260419T203040Z
URL:https://business.carygrovechamber.com/events/details/cary-cruise-nights-07-11-2012-3328
END:VEVENT

END:VCALENDAR
