BEGIN:VCALENDAR
VERSION:2.0
PRODID:-//ChamberMaster//Event Calendar 2.0//EN
METHOD:PUBLISH
X-PUBLISHED-TTL:P3D
REFRESH-INTERVAL:P3D
CALSCALE:GREGORIAN
BEGIN:VEVENT
DTSTART:20190810T200000Z
DTEND:20190810T220000Z
X-MICROSOFT-CDO-ALLDAYEVENT:FALSE
SUMMARY:Cary Firefighter's Water Fights
DESCRIPTION:The Cary Fire Fighters Association is having their Water Fights on Saturday\, August 10 at 3:00 p.m. at the Fire Station located at 400 Cary-Algonquin Road in Cary. Come cheer on the Cary firefighters as they challenge other departments in a water battle. Enjoy food and refreshments! To reach the fire department\, call (847) 639-2121.
X-ALT-DESC;FMTTYPE=text/html:<div>The Cary Fire Fighters Association is having their Water Fights on Saturday\, August 10 at 3:00 p.m. at the Fire Station located at 400 Cary-Algonquin Road in Cary.&nbsp\;Come cheer on the Cary firefighters as they challenge other departments in a water battle. Enjoy food and refreshments! To reach the fire department\, call (847) 639-2121.</div>\n
LOCATION:The Cary Fire Station 400 Cary-Algonquin Road in Cary
UID:e.138.9653
SEQUENCE:3
DTSTAMP:20260419T115931Z
URL:https://business.carygrovechamber.com/events/details/cary-firefighter-s-water-fights-9653
END:VEVENT

END:VCALENDAR
