BEGIN:VCALENDAR
VERSION:2.0
PRODID:-//ChamberMaster//Event Calendar 2.0//EN
METHOD:PUBLISH
X-PUBLISHED-TTL:P3D
REFRESH-INTERVAL:P3D
CALSCALE:GREGORIAN
BEGIN:VEVENT
DTSTART;VALUE=DATE:20091115
DTEND;VALUE=DATE:20091116
TRANSP:TRANSPARENT
X-MICROSOFT-CDO-ALLDAYEVENT:TRUE
SUMMARY:Cary-Grove AMVETS Turkey Raffle
DESCRIPTION:The Cary-Grove AMVETS' Annual Turkey Raffle is this Sunday\, November 15 at 2 p.m. at the Cary Pub\, 208 W. Main Street in downtown Cary. There will be turkeys and other meat products raffled with the proceeds going to the programs that support Veterans at the North Chicago Veterans Hospital. There will be door prizes and snacks provided by the AmVet Post. Tickets prior to Sunday can be purchased from Cary-Grove AMVET members. For questions\, call Post Commander\, Gary Foster at (847) 899-3936.
X-ALT-DESC;FMTTYPE=text/html:<div>The Cary-Grove AMVETS' Annual Turkey Raffle is this Sunday\, November 15 at 2 p.m. at the Cary Pub\, 208 W. Main Street in downtown Cary. There will be turkeys and other meat products raffled with the proceeds going to the programs that support Veterans at the North Chicago Veterans Hospital. There will be door prizes and snacks provided by the AmVet Post. Tickets prior to Sunday can be purchased from Cary-Grove AMVET members. For questions\, call Post Commander\, Gary Foster at (847) 899-3936.</div>
LOCATION:Cary Pub\, 208 W. Main Street in downtown Cary
UID:e.138.626
SEQUENCE:3
DTSTAMP:20260424T140842Z
URL:https://business.carygrovechamber.com/events/details/cary-grove-amvets-turkey-raffle-11-15-2009-626
END:VEVENT

END:VCALENDAR
