BEGIN:VCALENDAR
VERSION:2.0
PRODID:-//ChamberMaster//Event Calendar 2.0//EN
METHOD:PUBLISH
X-PUBLISHED-TTL:P3D
REFRESH-INTERVAL:P3D
CALSCALE:GREGORIAN
BEGIN:VEVENT
DTSTART;VALUE=DATE:20090803
DTEND;VALUE=DATE:20090804
TRANSP:TRANSPARENT
X-MICROSOFT-CDO-ALLDAYEVENT:TRUE
SUMMARY:Cary-Grove Area Crime Stoppers Golf Outing
DESCRIPTION:Cary-Grove Area Crime Stoppers Golf Outing is scheduled for Monday\, August 3 at Chalet Hills Golf Club\, located at 943 Rawson Bridge Road in Cary.  Cost is $125 or $500 for a foursome. Sponsor a hole for $75.  Any prize donations welcome!  Contact Joe McVicker for more information at (847) 462-8881.
X-ALT-DESC;FMTTYPE=text/html:Cary-Grove Area Crime Stoppers Golf Outing is scheduled for Monday\, August 3 at Chalet Hills Golf Club\, located at 943 Rawson Bridge Road in Cary.  Cost is $125 or $500 for a foursome. Sponsor a hole for $75.  Any prize donations welcome!  Contact Joe McVicker for more information at (847) 462-8881.
LOCATION:Chalet Hills Golf Club943 Rawson Bridge Road in Cary
UID:e.138.498
SEQUENCE:3
DTSTAMP:20260424T180321Z
URL:https://business.carygrovechamber.com/events/details/cary-grove-area-crime-stoppers-golf-outing-08-03-2009-498
END:VEVENT

END:VCALENDAR
