BEGIN:VCALENDAR
VERSION:2.0
PRODID:-//ChamberMaster//Event Calendar 2.0//EN
METHOD:PUBLISH
X-PUBLISHED-TTL:P3D
REFRESH-INTERVAL:P3D
CALSCALE:GREGORIAN
BEGIN:VEVENT
DTSTART:20080429T130000Z
DTEND:20080429T150000Z
X-MICROSOFT-CDO-ALLDAYEVENT:FALSE
SUMMARY:Cary Grove Premier Network and Brunch Cafe Morning Mixer
DESCRIPTION:Cary Grove Premier Network and Brunch Cafe Morning Mixer At Brunch Cafe\, 935 Route 22 (Next to Car X)\, Fox River Grove
X-ALT-DESC;FMTTYPE=text/html:<div><font size="4">Cary Grove Premier Network and Brunch&nbsp\;Cafe Morning Mixer</font></div><div>&nbsp\;</div><div><font size="4">At Brunch Cafe\, </font><font size="4">935 Route 22 (Next to Car X)\, Fox River Grove</font></div><div>&nbsp\;</div>
LOCATION:935 Route 22\, Fox River Grove
UID:e.138.219
SEQUENCE:3
DTSTAMP:20260425T154003Z
URL:https://business.carygrovechamber.com/events/details/cary-grove-premier-network-and-brunch-cafe-morning-mixer-04-29-2008-219
END:VEVENT

END:VCALENDAR
