BEGIN:VCALENDAR
VERSION:2.0
PRODID:-//ChamberMaster//Event Calendar 2.0//EN
METHOD:PUBLISH
X-PUBLISHED-TTL:P3D
REFRESH-INTERVAL:P3D
CALSCALE:GREGORIAN
BEGIN:VEVENT
DTSTART:20090114T230000Z
DTEND:20090115T010000Z
X-MICROSOFT-CDO-ALLDAYEVENT:FALSE
SUMMARY:Cary Grove Referral Network Mixer at Brunch Cafe
DESCRIPTION:Cary Grove Referral Network MixerHeld at Brunch Cafe935 Route 22\, Fox River Grove Donating canned goods or cash for the Cary Grove Food Pantry gives you a chance at more raffle prizes!    Chance to win a new Wii!
X-ALT-DESC;FMTTYPE=text/html:<div><font color="#0000ff" size="4">Cary Grove Referral Network Mixer</font></div><div><font color="#0000ff" size="4">Held at Brunch Cafe</font></div><div><font color="#0000ff" size="4">935 Route 22\, Fox River Grove</font></div><div>&nbsp\;</div><div><font color="#0000ff" size="4">Donating canned goods or cash for the Cary Grove Food Pantry gives you a chance at more raffle prizes!&nbsp\;&nbsp\;&nbsp\; Chance to win a new Wii!</font></div><div>&nbsp\;</div><div>&nbsp\;</div>
LOCATION:Brunch Cafe\, 935 Route 22\, Fox River Grove
UID:e.138.373
SEQUENCE:3
DTSTAMP:20260425T022812Z
URL:https://business.carygrovechamber.com/events/details/cary-grove-referral-network-mixer-at-brunch-cafe-01-14-2009-373
END:VEVENT

END:VCALENDAR
