BEGIN:VCALENDAR
VERSION:2.0
PRODID:-//ChamberMaster//Event Calendar 2.0//EN
METHOD:PUBLISH
X-PUBLISHED-TTL:P3D
REFRESH-INTERVAL:P3D
CALSCALE:GREGORIAN
BEGIN:VEVENT
DTSTART:20070530T130000Z
DTEND:20070530T140000Z
X-MICROSOFT-CDO-ALLDAYEVENT:FALSE
SUMMARY:Cary Grove Referral Network Recruitment Breakfast
DESCRIPTION:The Cary Grove Referral Network will host a New Member Recruitment Breakfast on Wednesday\, May 30 at Panera Bread in Fox River Grove at 8:00 a.m.  Come and dine with members of the Referral Network and find out how you can be part of a Chamber-affiliated networking group dedicated to each members' business success.  RSVP to Jay Bishop at 847-287-2952 or the Chamber office at 847-639-2800.
X-ALT-DESC;FMTTYPE=text/html:<p class="MsoNormal" style="MARGIN: 0in 0in 0pt"><font face="Times New Roman" size="3">The <strong style="mso-bidi-font-weight: normal">Cary Grove Referral Network</strong> will host a New Member Recruitment Breakfast on Wednesday\, May 30 at Panera Bread in Fox River Grove at <st1:time minute="0" hour="8">8:00 a.m.</st1:time><span style="mso-spacerun: yes">&nbsp\; </span>Come and dine with members of the Referral Network and find out how you can be part of a Chamber-affiliated networking group dedicated to each members&rsquo\; business success.<span style="mso-spacerun: yes">&nbsp\; </span>RSVP to Jay Bishop at 847-287-2952 or the Chamber office at 847-639-2800.</font></p>
LOCATION:Panera Bread\, 730 Northwest Highway in Fox River Grove
UID:e.138.68
SEQUENCE:3
DTSTAMP:20260425T214908Z
URL:https://business.carygrovechamber.com/events/details/cary-grove-referral-network-recruitment-breakfast-05-30-2007-68
END:VEVENT

END:VCALENDAR
