BEGIN:VCALENDAR
VERSION:2.0
PRODID:-//ChamberMaster//Event Calendar 2.0//EN
METHOD:PUBLISH
X-PUBLISHED-TTL:P3D
REFRESH-INTERVAL:P3D
CALSCALE:GREGORIAN
BEGIN:VEVENT
DTSTART;VALUE=DATE:20090926
DTEND;VALUE=DATE:20090927
TRANSP:TRANSPARENT
X-MICROSOFT-CDO-ALLDAYEVENT:TRUE
SUMMARY:Cary-Grove Rotary Rummage Sale
DESCRIPTION:The Rotary Club of Cary Grove is hosting a large rummage sale on Saturday\, September 26 from 8 to 1 p.m. at 746 Northwest Hwy. behind Panera Bread in Fox River Grove. There will be lots of great items at affordable prices. Proceeds will go towards supplementing the Charitable Fund.  Come out and help raise money that will benefit the local community.  For more information\, visit www.carygroverotary.org.
X-ALT-DESC;FMTTYPE=text/html:The Rotary Club of Cary Grove is hosting a large rummage sale on Saturday\, September 26 from 8 to 1 p.m. at 746 Northwest Hwy. behind Panera Bread in Fox River Grove. There will be lots of great items at affordable prices. Proceeds will go towards supplementing the Charitable Fund.  Come out and help raise money that will benefit the local community.  For more information\, visit www.carygroverotary.org.\n
LOCATION:746 Northwest Hwy.Fox River Grove\, IL(behind Panera Bread)
UID:e.138.584
SEQUENCE:3
DTSTAMP:20260424T163635Z
URL:https://business.carygrovechamber.com/events/details/cary-grove-rotary-rummage-sale-09-26-2009-584
END:VEVENT

END:VCALENDAR
