BEGIN:VCALENDAR
VERSION:2.0
PRODID:-//ChamberMaster//Event Calendar 2.0//EN
METHOD:PUBLISH
X-PUBLISHED-TTL:P3D
REFRESH-INTERVAL:P3D
CALSCALE:GREGORIAN
BEGIN:VEVENT
DTSTART;VALUE=DATE:20091108
DTEND;VALUE=DATE:20091109
TRANSP:TRANSPARENT
X-MICROSOFT-CDO-ALLDAYEVENT:TRUE
SUMMARY:Cary Grove Rotary Wine Tasting Fundraiser
DESCRIPTION:The 2nd annual Cary Grove Rotary Club Wine & Tapas Tasting Fundraiser will be held on Sunday\, November 8 from 6 to 8 p.m. at Tapas Calpe Orchard Prime Meats & Wine Shoppe\, 133 W. Main Street in Cary. Cost is $40 and includes tapas\, desserts\, coffee and house wine. 30% of all house wine sales and 15% of all other wine sales will be donated to the Cary Grove Rotary\, which benefits their charitable fund.  Space is limited.  To reserve your spot\, mail a check payable to The Cary Grove Rotary Club to Sandi Waryck\, 3909 Three Oaks Rd.\, Cary\, IL 60013.  If you cannot attend\, wine orders can be accepted.  House wines are $15 per bottle. For more information\, call Sandi at (847) 462-0056 or e-mail swaryck@swtravelinc.com.
X-ALT-DESC;FMTTYPE=text/html:<div><p class="MsoNormal" style="line-height: 14.4pt\; margin: 0in 0in 0pt"><span style="font-family: Arial\; color: black\; font-size: 11pt\; mso-bidi-font-size: 12.0pt\; mso-bidi-font-family: 'Times New Roman'\; mso-font-kerning: 1.0pt">The&nbsp\;2nd annual <b style="mso-bidi-font-weight: normal">Cary Grove Rotary Club</b> Wine &amp\; Tapas Tasting Fundraiser will be held on Sunday\, November 8 from 6 to 8 p.m. at Tapas Calpe <b style="mso-bidi-font-weight: normal">Orchard Prime Meats &amp\; Wine Shoppe</b>\, <st1:street w:st="on"><st1:address w:st="on">133 W. Main Street</st1:address></st1:street> in <st1:city w:st="on"><st1:place w:st="on">Cary</st1:place></st1:city>. Cost is $40 and includes tapas\, desserts\, coffee and house wine. 30% of all house wine sales and 15% of all other wine sales will be donated to the Cary Grove Rotary\, which benefits their charitable fund.<span style="mso-spacerun: yes">&nbsp\; </span>Space is limited.<span style="mso-spacerun: yes">&nbsp\; </span>To reserve your spot\, mail a check payable to The Cary Grove Rotary Club to Sandi Waryck\, <st1:address w:st="on"><st1:street w:st="on"><st1:address w:st="on">3909 Three Oaks Rd.</st1:address></st1:street>\, <st1:city w:st="on">Cary</st1:city>\, <st1:state w:st="on">IL</st1:state> <st1:postalcode w:st="on">60013</st1:postalcode></st1:address>.<span style="mso-spacerun: yes">&nbsp\; </span>If you cannot attend\, wine orders can be accepted.<span style="mso-spacerun: yes">&nbsp\; </span>House wines are $15 per bottle. For more information\, call Sandi at (847) 462-0056 or e-mail <a href="mailto:swaryck@swtravelinc.com">swaryck@swtravelinc.com</a>.<o:p></o:p></span></p></div>
LOCATION:Tapas CalpeOrchard Prime Meats & Wine Shoppe133 W. Main Street Cary\, IL
UID:e.138.616
SEQUENCE:3
DTSTAMP:20260424T140221Z
URL:https://business.carygrovechamber.com/events/details/cary-grove-rotary-wine-tasting-fundraiser-11-08-2009-616
END:VEVENT

END:VCALENDAR
