BEGIN:VCALENDAR
VERSION:2.0
PRODID:-//ChamberMaster//Event Calendar 2.0//EN
METHOD:PUBLISH
X-PUBLISHED-TTL:P3D
REFRESH-INTERVAL:P3D
CALSCALE:GREGORIAN
BEGIN:VEVENT
DTSTART;VALUE=DATE:20090817
DTEND;VALUE=DATE:20090818
TRANSP:TRANSPARENT
X-MICROSOFT-CDO-ALLDAYEVENT:TRUE
SUMMARY:Cary Jazzercise One Day Sale
DESCRIPTION:Cary Jazzercise is having a ONE DAY SALE on Monday\, August 17.  Join for only $99 for the rest of 2009. No contracts and no EFT\, just $99 for the rest of the year.  For more information\, call (847) 639-0619.  Cary Jazzercise is located at 770-B Industrial Drive in Cary.
X-ALT-DESC;FMTTYPE=text/html:Cary Jazzercise is having a ONE DAY SALE on Monday\, August 17.  Join for only $99 for the rest of 2009. No contracts and no EFT\, just $99 for the rest of the year.  For more information\, call (847) 639-0619.  Cary Jazzercise is located at 770-B Industrial Drive in Cary.
LOCATION:Cary Jazzercise770-B Industrial Drive in Cary
UID:e.138.539
SEQUENCE:3
DTSTAMP:20260424T180204Z
URL:https://business.carygrovechamber.com/events/details/cary-jazzercise-one-day-sale-08-17-2009-539
END:VEVENT

END:VCALENDAR
