BEGIN:VCALENDAR
VERSION:2.0
PRODID:-//ChamberMaster//Event Calendar 2.0//EN
METHOD:PUBLISH
X-PUBLISHED-TTL:P3D
REFRESH-INTERVAL:P3D
CALSCALE:GREGORIAN
BEGIN:VEVENT
DTSTART;VALUE=DATE:20091004
DTEND;VALUE=DATE:20091005
TRANSP:TRANSPARENT
X-MICROSOFT-CDO-ALLDAYEVENT:TRUE
SUMMARY:Cary Junior Trojan Raffle
DESCRIPTION:Annual Cary Jr. Trojan RaffleAll Cary Jr. Trojan parents and friends are welcome!To purchase a $100 Raffle\, contact Jeff Underwood at president@cjtyfl.com or call (847) 289-4142.  Raffle will take place on Sunday\, October 4\, 2009 at Port Barrington Marina & Restaurant\, 99 Kazimour Drive\, Lake Barrington from 12 - 3pm.  Appetizers to be served - Cash Bar.Raffle Begins promptly at 1:00pm.  Cost per ticket $100.00Chances to win.... CASH PRIZES!Grand Prize\, last ticket drawn $3000\, First ticket drawn  $300\, Last chance losers' ticket  $200\, Ten losing tickets drawn  $100Total prizes per 100 ticket pool   $4500.00*Adults only please!!
X-ALT-DESC;FMTTYPE=text/html:<div><p style="text-align: left"><strong><span style="font-family: Tahoma\; color: navy\; font-size: 13.5pt">Annual&nbsp\;</span></strong><strong><span style="font-family: Tahoma\; color: navy\; font-size: 13.5pt">Cary</span></strong><strong><span style="font-family: Tahoma\; color: navy\; font-size: 13.5pt"> Jr. Trojan Raffle</span></strong></p><p style="text-align: left"><span style="font-size: x-small"><font face="Tahoma"><span style="color: navy">All Cary Jr. Trojan parents and friends are welcome!</span></font></span></p><p style="text-align: left"><span style="font-size: x-small"><font face="Tahoma"><span style="color: navy">To purchase a $100 Raffle\, contact Jeff Underwood at <a href="mailto:president@cjtyfl.com">president@cjtyfl.com</a>&nbsp\;or call (847) 289-4142.&nbsp\; Raffle will take place on </span><span style="color: navy">Sunday\, October 4\, 2009 at&nbsp\;</span></font></span><span style="font-size: x-small"><font face="Tahoma"><span style="color: navy">Port </span><span style="color: navy">Barrington</span><span style="color: navy"> Marina &amp\; Restaurant\, </span></font></span><span style="font-size: x-small"><font face="Tahoma"><span style="color: navy">99 Kazimour Drive<span style="color: navy">\, </span><span style="color: navy">Lake</span><span style="color: navy"> </span><span style="color: navy">Barrington from <span style="color: navy">12 - 3pm</span>.&nbsp\; A</span></span></font></span><span style="font-size: x-small"><font face="Tahoma"><span style="color: navy">ppetizers to be served - Cash Bar.</span></font></span></p><p style="text-align: left"><span style="font-size: x-small"><strong><span style="font-family: Tahoma\; color: navy">Raffle Begins promptly at </span></strong><strong><span style="font-family: Tahoma\; color: navy">1:00pm.&nbsp\; </span></strong></span><span style="font-size: x-small"><strong><span style="font-family: Tahoma\; color: navy">Cost per ticket $100.00</span></strong></span></p><p style="text-align: left"><span style="font-size: x-small"><strong><span style="font-family: Tahoma\; color: navy">Chances to win.... C</span></strong></span><span style="font-size: x-small"><strong><span style="font-family: Tahoma\; color: navy">ASH PRIZES!</span></strong></span></p><p style="text-align: left"><span style="font-size: x-small"><font face="Tahoma"><span style="color: navy">Grand Prize\, last ticket drawn $3000\, </span></font></span><span style="font-size: x-small"><font face="Tahoma"><span style="color: navy">First ticket drawn&nbsp\; $300\, </span></font></span><span style="font-size: x-small"><font face="Tahoma"><span style="color: navy">Last chance losers&rsquo\; ticket&nbsp\; $200\, </span></font></span><span style="font-size: x-small"><font face="Tahoma"><span style="color: navy">Ten losing tickets drawn&nbsp\; $100</span></font></span></p><p style="text-align: left"><span style="font-size: x-small"><font face="Tahoma"><span style="color: navy">Total prizes per 100 ticket pool&nbsp\;&nbsp\; $4500.00</span></font></span></p><p style="text-align: left"><span style="font-size: x-small"><strong><span style="font-family: Tahoma\; color: navy">*Adults only please!!</span></strong></span></p></div>
LOCATION:Port Barrington Marina & Restaurant99 Kazimour Drive\, Lake Barrington
UID:e.138.592
SEQUENCE:3
DTSTAMP:20260424T163348Z
URL:https://business.carygrovechamber.com/events/details/cary-junior-trojan-raffle-10-04-2009-592
END:VEVENT

END:VCALENDAR
