BEGIN:VCALENDAR
VERSION:2.0
PRODID:-//ChamberMaster//Event Calendar 2.0//EN
METHOD:PUBLISH
X-PUBLISHED-TTL:P3D
REFRESH-INTERVAL:P3D
CALSCALE:GREGORIAN
BEGIN:VEVENT
DTSTART;VALUE=DATE:20090511
DTEND;VALUE=DATE:20090512
TRANSP:TRANSPARENT
X-MICROSOFT-CDO-ALLDAYEVENT:TRUE
SUMMARY:Cary Junior Trojans Final Cheer and Pom Registration
DESCRIPTION:Don't miss your chance to register your cheerleader or pommie for the 2009 Season!Cary Junior Trojans Cheer and Pom 2009 Season Final Registration is on Monday\, May 11 from 6:30 p.m. to 8:00 p.m. at the Cary Junior High concessions stand meeting room (upstairs).  The fee is $155.00 and includes uniform rental\, shoes\, socks and hair bow.
X-ALT-DESC;FMTTYPE=text/html:<div>Don't miss your chance to register your cheerleader or pommie for the 2009 Season!</div><div>Cary Junior Trojans Cheer and Pom 2009 Season Final Registration&nbsp\;is on Monday\, May 11 from 6:30 p.m. to 8:00 p.m. at the Cary Junior High concessions stand meeting room (upstairs).&nbsp\; The fee is $155.00 and&nbsp\;includes uniform rental\, shoes\, socks and hair bow.</div>
LOCATION:Cary Junior HighCrystal Lake Ave. in Caryin the concessions stand meeting room (upstairs)
UID:e.138.441
SEQUENCE:3
DTSTAMP:20260424T215012Z
URL:https://business.carygrovechamber.com/events/details/cary-junior-trojans-final-cheer-and-pom-registration-05-11-2009-441
END:VEVENT

END:VCALENDAR
