BEGIN:VCALENDAR
VERSION:2.0
PRODID:-//ChamberMaster//Event Calendar 2.0//EN
METHOD:PUBLISH
X-PUBLISHED-TTL:P3D
REFRESH-INTERVAL:P3D
CALSCALE:GREGORIAN
BEGIN:VEVENT
DTSTART:20090430T233000Z
DTEND:20090501T020000Z
X-MICROSOFT-CDO-ALLDAYEVENT:FALSE
SUMMARY:Cary Lions Club Fundraiser
DESCRIPTION:Cary Lions Club Host Fundraiser   April 30A Tastefully Simple fundraiser is hosted by Cary Lions Club this Thursday\, April 30 at 359 High Road in Cary at 6:30 p.m. to help cover medical costs for Aiden\, the son of an active Lions Club member who has a heart condition.   The fundraiser is to assist the family with uncovered medical expenses for surgeries and extended care.  Tastefully Simple catalogue can be found at www.tastefullysimple.com.  To place an online order\, e-mail to goldenlox7@aol.com.   Donations may also be made directly to Aiden Christopher Davis Charitable Fund\, P.O. Box 1864\, Woodstock\, IL 60098.
X-ALT-DESC;FMTTYPE=text/html:<h1 style="margin: 0in 0in 0pt"><font size="3"><st1:city w:st="on"><st1:place w:st="on"><span style="font-family: &quot\;Arial&quot\;\,&quot\;sans-serif&quot\;\; mso-bidi-font-family: 'Times New Roman'">Cary</span></st1:place></st1:city><span style="font-family: &quot\;Arial&quot\;\,&quot\;sans-serif&quot\;\; mso-bidi-font-family: 'Times New Roman'"> Lions Club Host Fundraiser &ndash\; April 30<o:p></o:p></span></font></h1><p class="MsoNormal" style="margin: 0in 0in 0pt\; line-height: 14.4pt"><span style="font-size: 11pt\; color: black\; font-family: &quot\;Arial&quot\;\,&quot\;sans-serif&quot\;\; mso-bidi-font-family: 'Times New Roman'">A Tastefully Simple fundraiser is hosted by <strong style="mso-bidi-font-weight: normal">Cary Lions Club</strong> this Thursday\, April 30 at <st1:street w:st="on"><st1:address w:st="on">359 High Road</st1:address></st1:street> in <st1:city w:st="on"><st1:place w:st="on">Cary</st1:place></st1:city> at <st1:time w:st="on" hour="18" minute="30">6:30 p.m.</st1:time> to help cover medical costs for Aiden\, the son of an active Lions Club member who has a heart condition. <span style="mso-spacerun: yes">&nbsp\;&nbsp\;</span>The fundraiser is to assist the family with uncovered medical expenses for surgeries and extended care.<span style="mso-spacerun: yes">&nbsp\; </span>Tastefully Simple catalogue can be found at <a href="http://www.tastefullysimple.com/">www.tastefullysimple.com</a>.<span style="mso-spacerun: yes">&nbsp\; </span>To place an online order\, e-mail to <a href="mailto:goldenlox7@aol.com">goldenlox7@aol.com</a>.<span style="mso-spacerun: yes">&nbsp\;&nbsp\; </span>Donations may also be made directly to Aiden Christopher Davis Charitable Fund\, <st1:address w:st="on"><st1:street w:st="on">P.O. Box 1864</st1:street>\, <st1:city w:st="on">Woodstock</st1:city>\, <st1:state w:st="on">IL</st1:state> <st1:postalcode w:st="on">60098</st1:postalcode></st1:address>. <o:p></o:p></span></p>
LOCATION:359 High Road\, Cary
UID:e.138.453
SEQUENCE:3
DTSTAMP:20260424T231244Z
URL:https://business.carygrovechamber.com/events/details/cary-lions-club-fundraiser-04-30-2009-453
END:VEVENT

END:VCALENDAR
