BEGIN:VCALENDAR
VERSION:2.0
PRODID:-//ChamberMaster//Event Calendar 2.0//EN
METHOD:PUBLISH
X-PUBLISHED-TTL:P3D
REFRESH-INTERVAL:P3D
CALSCALE:GREGORIAN
BEGIN:VEVENT
DTSTART:20070922T233000Z
DTEND:20070923T043000Z
X-MICROSOFT-CDO-ALLDAYEVENT:FALSE
SUMMARY:Cary Park Foundation Moonlight Golf Outing
DESCRIPTION:Join the Cary Park Foundation for the forth annual fundraiser under the stars! Moonlight golf is played on a shortened front-9 using glow-in-the-dark golf balls\, illuminated flag poles\, and only the help of the members in your foursome. Join us for a night of food\, golf\, socialization\, and prizes while helping parks and recreation. Registration forms are available at the Cary Park District Community Center or online at www.carypark.com
X-ALT-DESC;FMTTYPE=text/html:Join the Cary Park Foundation for the forth annual fundraiser under the stars! Moonlight golf is played on a shortened front-9 using glow-in-the-dark golf balls\, illuminated flag poles\, and only the help of the members in your foursome. Join us for a night of food\, golf\, socialization\, and prizes while helping parks and recreation. Registration forms are available at the Cary Park District Community Center or online at www.carypark.com
LOCATION:Foxford Hills Golf Club\, 6800 S. Rawson Bridge Road
UID:e.138.115
SEQUENCE:3
DTSTAMP:20260426T022027Z
URL:https://business.carygrovechamber.com/events/details/cary-park-foundation-moonlight-golf-outing-09-22-2007-115
END:VEVENT

END:VCALENDAR
