BEGIN:VCALENDAR
VERSION:2.0
PRODID:-//ChamberMaster//Event Calendar 2.0//EN
METHOD:PUBLISH
X-PUBLISHED-TTL:P3D
REFRESH-INTERVAL:P3D
CALSCALE:GREGORIAN
BEGIN:VEVENT
DTSTART:20070508T220000Z
DTEND:20070509T000000Z
X-MICROSOFT-CDO-ALLDAYEVENT:FALSE
SUMMARY:Cary Physical Therapy Mixer
DESCRIPTION:Tuesday\, May 8            Cary Physical Therapy Mixer            2615 Three Oaks Rd\, Suite 1A\, Cary            5   7 p.m.
X-ALT-DESC;FMTTYPE=text/html:<p class="MsoNormal" style="MARGIN: 0in 0in 0pt"><font size="3"><font face="Times New Roman">Tuesday\, May 8<o:p></o:p></font></font></p><p class="MsoNormal" style="MARGIN: 0in 0in 0pt"><font size="3"><font face="Times New Roman"><span style="mso-tab-count: 1">&nbsp\;&nbsp\;&nbsp\;&nbsp\;&nbsp\;&nbsp\;&nbsp\;&nbsp\;&nbsp\;&nbsp\;&nbsp\; </span><st1:city><st1:place>Cary</st1:place></st1:city> Physical Therapy Mixer<o:p></o:p></font></font></p><p class="MsoNormal" style="MARGIN: 0in 0in 0pt"><font size="3"><font face="Times New Roman"><span style="mso-tab-count: 1">&nbsp\;&nbsp\;&nbsp\;&nbsp\;&nbsp\;&nbsp\;&nbsp\;&nbsp\;&nbsp\;&nbsp\;&nbsp\; </span><st1:address><st1:street>2615 Three Oaks Rd\, Suite 1A</st1:street>\, <st1:city>Cary</st1:city></st1:address><o:p></o:p></font></font></p><p class="MsoNormal" style="MARGIN: 0in 0in 0pt"><font size="3"><font face="Times New Roman"><span style="mso-tab-count: 1">&nbsp\;&nbsp\;&nbsp\;&nbsp\;&nbsp\;&nbsp\;&nbsp\;&nbsp\;&nbsp\;&nbsp\;&nbsp\; </span><st1:time minute="0" hour="17">5 &ndash\; 7 p.m.</st1:time><span style="mso-spacerun: yes">&nbsp\;&nbsp\;&nbsp\;&nbsp\; </span></font></font><o:p></o:p></p>
LOCATION:
UID:e.138.46
SEQUENCE:3
DTSTAMP:20260425T214730Z
URL:https://business.carygrovechamber.com/events/details/cary-physical-therapy-mixer-05-08-2007-46
END:VEVENT

END:VCALENDAR
