BEGIN:VCALENDAR
VERSION:2.0
PRODID:-//ChamberMaster//Event Calendar 2.0//EN
METHOD:PUBLISH
X-PUBLISHED-TTL:P3D
REFRESH-INTERVAL:P3D
CALSCALE:GREGORIAN
BEGIN:VEVENT
DTSTART:20090121T180000Z
DTEND:20090121T193000Z
X-MICROSOFT-CDO-ALLDAYEVENT:FALSE
SUMMARY:Cary Rountable Luncheon
DESCRIPTION:Wednesday\, January 21Cary Business RoundtableSpeaker:   Mayor Steve LamalMeet with Cary leaders to learn first-hand updates on: Spectrum Assisted LivingCVSThe New Three Oaks Shopping Centerand more...12 noonWool Street Gill & Sports Bar\, 800 Feinberg Ct.\, Cary $20 per person\, includes buffet lunch.  Advanced reservations required.Call the Chamber (847) 639-2800
X-ALT-DESC;FMTTYPE=text/html:<div style="margin: 0in 0in 0pt"><strong><font size="4">Wednesday\, January 21</font></strong></div><div style="margin: 0in 0in 0pt"><font size="4"><strong>Cary</strong><strong> Business Roundtable</strong></font></div><div style="margin: 0in 0in 0pt"><font size="4">Speaker:<span>&nbsp\;&nbsp\; Mayor Steve Lamal</span></font></div><div style="margin: 0in 0in 0pt"><font size="4">Meet with Cary leaders to learn </font></div><div style="margin: 0in 0in 0pt"><font size="4">first-hand updates on: </font></div><div style="margin: 0in 0in 0pt"><font size="4">Spectrum Assisted Living</font></div><div style="margin: 0in 0in 0pt"><font size="4">CVS</font></div><div style="margin: 0in 0in 0pt"><font size="4">The New Three Oaks Shopping Center</font></div><div style="margin: 0in 0in 0pt"><font size="4">and more...</font></div><div style="margin: 0in 0in 0pt"><font size="4">12 noon</font></div><div style="margin: 0in 0in 0pt"><font size="4">Wool Street Gill &amp\; Sports Bar\, 800 Feinberg Ct.\, Cary </font></div><div style="margin: 0in 0in 0pt"><font size="4">$20 per person\, includes buffet lunch.&nbsp\; Advanced reservations required.</font></div><div style="margin: 0in 0in 0pt"><font size="4">Call the Chamber&nbsp\;(847) 639-2800</font></div><div style="margin: 0in 0in 0pt"><font size="4">&nbsp\;</font></div>
LOCATION:Wool Street Grill & Sports Bar800 Feinberg Ct.\, Cary
UID:e.138.393
SEQUENCE:3
DTSTAMP:20260425T022634Z
URL:https://business.carygrovechamber.com/events/details/cary-rountable-luncheon-01-21-2009-393
END:VEVENT

END:VCALENDAR
