BEGIN:VCALENDAR
VERSION:2.0
PRODID:-//ChamberMaster//Event Calendar 2.0//EN
METHOD:PUBLISH
X-PUBLISHED-TTL:P3D
REFRESH-INTERVAL:P3D
CALSCALE:GREGORIAN
BEGIN:VEVENT
DTSTART;VALUE=DATE:20100326
DTEND;VALUE=DATE:20100327
TRANSP:TRANSPARENT
X-MICROSOFT-CDO-ALLDAYEVENT:TRUE
SUMMARY:Cary Senior Center Spring Fling Lunch
DESCRIPTION:The Salvation Army Sponsors Cary Senior Center Spring Fling. Seniors 60 and over are invited to the Cary Senior Center Spring Fling on Friday\, March 26 from 11 a.m. to 1:30 p.m. for lunch at 441 W. Main Street in Cary. Lunch will include chicken cordon bleu\, wild rice\, vegetable and salad. To reserve your meal\, call (847) 639-7224 by March 22.  Seating is limited to 60.  The Salvation Army will be accepting donations on site.
X-ALT-DESC;FMTTYPE=text/html:<div><h1 style="margin: 0in 0in 0pt"><span style="font-family: Arial\; mso-bidi-font-family: &rsquo\;Times New Roman&rsquo\;"><font size="3">The Salvation Army Sponsors Cary Senior Center Spring Fling.</font></span></h1><h1 style="margin: 0in 0in 0pt"><span style="font-family: Arial\; mso-bidi-font-family: &rsquo\;Times New Roman&rsquo\;"><font size="3">&nbsp\;</font></span></h1><h1 style="margin: 0in 0in 0pt"><span style="font-family: Arial\; color: black\; font-size: 11pt\; mso-bidi-font-family: &rsquo\;Times New Roman&rsquo\;\; mso-font-kerning: 1.0pt\; mso-bidi-font-size: 12.0pt">Seniors 60 and over are invited to the Cary Senior Center Spring Fling on Friday\, March 26 from </span><st1:time minute="0" hour="11"><span style="font-family: Arial\; color: black\; font-size: 11pt\; mso-bidi-font-family: &rsquo\;Times New Roman&rsquo\;\; mso-font-kerning: 1.0pt\; mso-bidi-font-size: 12.0pt">11 a.m.</span></st1:time><span style="font-family: Arial\; color: black\; font-size: 11pt\; mso-bidi-font-family: &rsquo\;Times New Roman&rsquo\;\; mso-font-kerning: 1.0pt\; mso-bidi-font-size: 12.0pt"> to </span><st1:time minute="30" hour="13"><span style="font-family: Arial\; color: black\; font-size: 11pt\; mso-bidi-font-family: &rsquo\;Times New Roman&rsquo\;\; mso-font-kerning: 1.0pt\; mso-bidi-font-size: 12.0pt">1:30 p.m.</span></st1:time><span style="font-family: Arial\; color: black\; font-size: 11pt\; mso-bidi-font-family: &rsquo\;Times New Roman&rsquo\;\; mso-font-kerning: 1.0pt\; mso-bidi-font-size: 12.0pt"> for lunch at </span><st1:street><st1:address><span style="font-family: Arial\; color: black\; font-size: 11pt\; mso-bidi-font-family: &rsquo\;Times New Roman&rsquo\;\; mso-font-kerning: 1.0pt\; mso-bidi-font-size: 12.0pt">441 W. Main Street</span></st1:address></st1:street><span style="font-family: Arial\; color: black\; font-size: 11pt\; mso-bidi-font-family: &rsquo\;Times New Roman&rsquo\;\; mso-font-kerning: 1.0pt\; mso-bidi-font-size: 12.0pt"> in </span><st1:city><st1:place><span style="font-family: Arial\; color: black\; font-size: 11pt\; mso-bidi-font-family: &rsquo\;Times New Roman&rsquo\;\; mso-font-kerning: 1.0pt\; mso-bidi-font-size: 12.0pt">Cary</span></st1:place></st1:city><span style="font-family: Arial\; color: black\; font-size: 11pt\; mso-bidi-font-family: &rsquo\;Times New Roman&rsquo\;\; mso-font-kerning: 1.0pt\; mso-bidi-font-size: 12.0pt">. Lunch will include chicken cordon bleu\, wild rice\, vegetable and salad. To reserve your meal\, call (847) 639-7224 by March 22.<span style="mso-spacerun: yes">&nbsp\; </span>Seating is limited to 60.<span style="mso-spacerun: yes">&nbsp\; </span><b style="mso-bidi-font-weight: normal">The Salvation Army</b> will be accepting donations on site.<span style="mso-spacerun: yes">&nbsp\; </span><o:p></o:p></span></h1></div>
LOCATION:Kraus Senior Center 441 W. Main Street in Cary
UID:e.138.777
SEQUENCE:3
DTSTAMP:20260424T111336Z
URL:https://business.carygrovechamber.com/events/details/cary-senior-center-spring-fling-lunch-03-26-2010-777
END:VEVENT

END:VCALENDAR
