BEGIN:VCALENDAR
VERSION:2.0
PRODID:-//ChamberMaster//Event Calendar 2.0//EN
METHOD:PUBLISH
X-PUBLISHED-TTL:P3D
REFRESH-INTERVAL:P3D
CALSCALE:GREGORIAN
BEGIN:VEVENT
DTSTART;VALUE=DATE:20120108
DTEND;VALUE=DATE:20120109
TRANSP:TRANSPARENT
X-MICROSOFT-CDO-ALLDAYEVENT:TRUE
SUMMARY:Cary Travel Express 2012 Travel Show
DESCRIPTION:14th Annual Cruise\, Tour & Honeymoon Travel Show\n\npresented by Cary Travel Express!\n\n\n\n"What is on your Travel Bucket List?"\n\n\n\nCome meet with over 25 Travel Vendors who specialize in Cruises\, All-Inclusives\, Honeymoons\, Europe\, Alaska\, Hawaii\, Ireland\, Australia and other Exotics!\n\n\n\nFree Travel Seminars\n\nTravel Specials and Discounts for all Attendees!\n\n\n\nGrand Prize Giveaway-3 night stay for 2 people at Cancun Iberostar with roundtrip air from Funjet!
X-ALT-DESC;FMTTYPE=text/html:14th Annual Cruise\, Tour &amp\; Honeymoon Travel Show<br />\npresented by Cary Travel Express!<br />\n<br />\n&quot\;What is on your Travel Bucket List?&quot\;<br />\n<br />\nCome meet with over 25 Travel Vendors who specialize in Cruises\, All-Inclusives\, Honeymoons\, Europe\, Alaska\, Hawaii\, Ireland\, Australia and other Exotics!<br />\n<br />\nFree Travel Seminars<br />\nTravel Specials and Discounts for all Attendees!<br />\n<br />\nGrand Prize Giveaway-3 night stay for 2 people at Cancun Iberostar with roundtrip air from Funjet!<br />\n
LOCATION:Holiday Inn\, Crystal Lake IL Route 31 & Three Oaks Road
UID:e.138.2739
SEQUENCE:3
DTSTAMP:20260424T125113Z
URL:https://business.carygrovechamber.com/events/details/cary-travel-express-2012-travel-show-01-08-2012-2739
END:VEVENT

END:VCALENDAR
