BEGIN:VCALENDAR
VERSION:2.0
PRODID:-//ChamberMaster//Event Calendar 2.0//EN
METHOD:PUBLISH
X-PUBLISHED-TTL:P3D
REFRESH-INTERVAL:P3D
CALSCALE:GREGORIAN
BEGIN:VEVENT
DTSTART;VALUE=DATE:20090418
DTEND;VALUE=DATE:20090419
TRANSP:TRANSPARENT
X-MICROSOFT-CDO-ALLDAYEVENT:TRUE
SUMMARY:Cary Youth Baseball Opening Day Parade
DESCRIPTION:Join us this Saturday\, April 18 for Opening Day Parade and Ceremony to kick off the 2009 season for Cary Youth Baseball.  Come down and watch all the teams parade through town!  The parade begins at 12 noon on Wulff St. (Briargate School) to Main St. to School St. and ends at Maplewood School.  Do not park on this parade route or in the Maplewood or Briargate parking lot after 10 a.m. It is recommended that you park in the Metra Parking Lot. The opening day ceremony will begin once all teams have arrived at the main field behind Maplewood (approximately 12:45 p.m). The ceremony usually lasts around 45 minutes and the first games of the season will start shortly after.
X-ALT-DESC;FMTTYPE=text/html:<div>Join us this Saturday\, April 18 for Opening Day Parade and Ceremony to kick off the 2009 season for Cary Youth Baseball.&nbsp\; Come down and watch all the teams parade through town!&nbsp\; The parade begins at 12 noon&nbsp\;on Wulff St. (Briargate School)&nbsp\;to Main St. to School St. and ends at Maplewood School. &nbsp\;Do not park on this parade route or in the Maplewood or Briargate parking lot after 10 a.m. It is recommended that you park in the Metra Parking Lot. The opening day ceremony will begin once all teams have arrived at the main field behind Maplewood (approximately 12:45 p.m). The ceremony usually lasts around 45 minutes and the first games of the season will start shortly after.</div>
LOCATION:Parade begins at Briargate School on Wulff St. to Main St. to School St. and ends at Maplewood School.
UID:e.138.440
SEQUENCE:3
DTSTAMP:20260424T231209Z
URL:https://business.carygrovechamber.com/events/details/cary-youth-baseball-opening-day-parade-04-18-2009-440
END:VEVENT

END:VCALENDAR
