BEGIN:VCALENDAR
VERSION:2.0
PRODID:-//ChamberMaster//Event Calendar 2.0//EN
METHOD:PUBLISH
X-PUBLISHED-TTL:P3D
REFRESH-INTERVAL:P3D
CALSCALE:GREGORIAN
BEGIN:VEVENT
DTSTART;VALUE=DATE:20091215
DTEND;VALUE=DATE:20091216
TRANSP:TRANSPARENT
X-MICROSOFT-CDO-ALLDAYEVENT:TRUE
SUMMARY:CBA Open Gym
DESCRIPTION:Cary Basketball Association (CBA) is having an Open Gym for registered CBA players on Tuesday\, December 15 for 5th   8th grades from 7 to 9 p.m. at the Lake Barrington Field House\, located at 28156 W. Northpointe Pkwy. in Lake Barrington\, (off Pepper Road and Route 14).  Cost is $3.  Please bring your shoes and change there.  CBA Uniform required.
X-ALT-DESC;FMTTYPE=text/html:<div><p class="MsoNormal" style="line-height: 14.4pt\; margin: 0in 0in 0pt"><b style="mso-bidi-font-weight: normal"><span style="font-family: Arial\; color: black\; font-size: 11pt\; mso-bidi-font-size: 12.0pt\; mso-bidi-font-family: &rsquo\;Times New Roman&rsquo\;\; mso-font-kerning: 1.0pt">Cary Basketball Association (</span></b><st1:stockticker><b style="mso-bidi-font-weight: normal"><span style="font-family: Arial\; color: black\; font-size: 11pt\; mso-bidi-font-size: 12.0pt\; mso-bidi-font-family: &rsquo\;Times New Roman&rsquo\;\; mso-font-kerning: 1.0pt">CBA</span></b></st1:stockticker><b style="mso-bidi-font-weight: normal"><span style="font-family: Arial\; color: black\; font-size: 11pt\; mso-bidi-font-size: 12.0pt\; mso-bidi-font-family: &rsquo\;Times New Roman&rsquo\;\; mso-font-kerning: 1.0pt">)</span></b><span style="font-family: Arial\; color: black\; font-size: 11pt\; mso-bidi-font-size: 12.0pt\; mso-bidi-font-family: &rsquo\;Times New Roman&rsquo\;\; mso-font-kerning: 1.0pt"> is having an Open Gym for registered </span><st1:stockticker><span style="font-family: Arial\; color: black\; font-size: 11pt\; mso-bidi-font-size: 12.0pt\; mso-bidi-font-family: &rsquo\;Times New Roman&rsquo\;\; mso-font-kerning: 1.0pt">CBA</span></st1:stockticker><span style="font-family: Arial\; color: black\; font-size: 11pt\; mso-bidi-font-size: 12.0pt\; mso-bidi-font-family: &rsquo\;Times New Roman&rsquo\;\; mso-font-kerning: 1.0pt"> players on Tuesday\, </span><st1:personname><span style="font-family: Arial\; color: black\; font-size: 11pt\; mso-bidi-font-size: 12.0pt\; mso-bidi-font-family: &rsquo\;Times New Roman&rsquo\;\; mso-font-kerning: 1.0pt">Dec</span></st1:personname><span style="font-family: Arial\; color: black\; font-size: 11pt\; mso-bidi-font-size: 12.0pt\; mso-bidi-font-family: &rsquo\;Times New Roman&rsquo\;\; mso-font-kerning: 1.0pt">ember 15 for 5<sup>th</sup> &ndash\; 8<sup>th</sup> grades from </span><st1:time hour="19" minute="0"><span style="font-family: Arial\; color: black\; font-size: 11pt\; mso-bidi-font-size: 12.0pt\; mso-bidi-font-family: &rsquo\;Times New Roman&rsquo\;\; mso-font-kerning: 1.0pt">7</span></st1:time><span style="font-family: Arial\; color: black\; font-size: 11pt\; mso-bidi-font-size: 12.0pt\; mso-bidi-font-family: &rsquo\;Times New Roman&rsquo\;\; mso-font-kerning: 1.0pt"> to </span><st1:time hour="21" minute="0"><span style="font-family: Arial\; color: black\; font-size: 11pt\; mso-bidi-font-size: 12.0pt\; mso-bidi-font-family: &rsquo\;Times New Roman&rsquo\;\; mso-font-kerning: 1.0pt">9 p.m.</span></st1:time><span style="font-family: Arial\; color: black\; font-size: 11pt\; mso-bidi-font-size: 12.0pt\; mso-bidi-font-family: &rsquo\;Times New Roman&rsquo\;\; mso-font-kerning: 1.0pt"> at the <b style="mso-bidi-font-weight: normal">Lake Barrington Field House\,</b> located at </span><st1:street><st1:address><span style="font-family: Arial\; color: black\; font-size: 11pt\; mso-bidi-font-size: 12.0pt\; mso-bidi-font-family: &rsquo\;Times New Roman&rsquo\;\; mso-font-kerning: 1.0pt">28156 W. Northpointe Pkwy.</span></st1:address></st1:street><span style="font-family: Arial\; color: black\; font-size: 11pt\; mso-bidi-font-size: 12.0pt\; mso-bidi-font-family: &rsquo\;Times New Roman&rsquo\;\; mso-font-kerning: 1.0pt"> in </span><st1:place><st1:placetype><span style="font-family: Arial\; color: black\; font-size: 11pt\; mso-bidi-font-size: 12.0pt\; mso-bidi-font-family: &rsquo\;Times New Roman&rsquo\;\; mso-font-kerning: 1.0pt">Lake</span></st1:placetype><span style="font-family: Arial\; color: black\; font-size: 11pt\; mso-bidi-font-size: 12.0pt\; mso-bidi-font-family: &rsquo\;Times New Roman&rsquo\;\; mso-font-kerning: 1.0pt"> </span><st1:placename><span style="font-family: Arial\; color: black\; font-size: 11pt\; mso-bidi-font-size: 12.0pt\; mso-bidi-font-family: &rsquo\;Times New Roman&rsquo\;\; mso-font-kerning: 1.0pt">Barrington</span></st1:placename></st1:place><span style="font-family: Arial\; color: black\; font-size: 11pt\; mso-bidi-font-size: 12.0pt\; mso-bidi-font-family: &rsquo\;Times New Roman&rsquo\;\; mso-font-kerning: 1.0pt">\, (off </span><st1:street><st1:address><span style="font-family: Arial\; color: black\; font-size: 11pt\; mso-bidi-font-size: 12.0pt\; mso-bidi-font-family: &rsquo\;Times New Roman&rsquo\;\; mso-font-kerning: 1.0pt">Pepper Road</span></st1:address></st1:street><span style="font-family: Arial\; color: black\; font-size: 11pt\; mso-bidi-font-size: 12.0pt\; mso-bidi-font-family: &rsquo\;Times New Roman&rsquo\;\; mso-font-kerning: 1.0pt"> and Route 14).<span style="mso-spacerun: yes">&nbsp\; </span>Cost is $3.<span style="mso-spacerun: yes">&nbsp\; </span>Please bring your shoes and change there.<span style="mso-spacerun: yes">&nbsp\; </span></span><st1:stockticker><span style="font-family: Arial\; color: black\; font-size: 11pt\; mso-bidi-font-size: 12.0pt\; mso-bidi-font-family: &rsquo\;Times New Roman&rsquo\;\; mso-font-kerning: 1.0pt">CBA</span></st1:stockticker><span style="font-family: Arial\; color: black\; font-size: 11pt\; mso-bidi-font-size: 12.0pt\; mso-bidi-font-family: &rsquo\;Times New Roman&rsquo\;\; mso-font-kerning: 1.0pt"> Uniform required.<o:p></o:p></span></p></div>
LOCATION:Lake Barrington Field House\, located at 28156 W. Northpointe Pkwy. in Lake Barrington\, (off Pepper Road and Route 14).
UID:e.138.677
SEQUENCE:3
DTSTAMP:20260424T124346Z
URL:https://business.carygrovechamber.com/events/details/cba-open-gym-12-15-2009-677
END:VEVENT

END:VCALENDAR
