BEGIN:VCALENDAR
VERSION:2.0
PRODID:-//ChamberMaster//Event Calendar 2.0//EN
METHOD:PUBLISH
X-PUBLISHED-TTL:P3D
REFRESH-INTERVAL:P3D
CALSCALE:GREGORIAN
BEGIN:VEVENT
DTSTART:20110315T220000Z
DTEND:20110316T000000Z
X-MICROSOFT-CDO-ALLDAYEVENT:FALSE
SUMMARY:Centegra Gavers Chamber Mixer
DESCRIPTION:You are invited to a Multi-Chamber mixer for the Crystal Lake and Cary Chambers of Commerce\n\nCocktails and Hors d'oeuvres will be served\n\n\n\nRSVP by March 10 to:\n\ncwember@centegra.com or 815-788-5867\n\n\n\nServing as the hub for Centegra's breast health program.  The Center offers leading-edge technology\, education and emotional support for patients facing breast health issues.  Come meet our Associates and take a tour.  \n\n\n\nPlease wear something pink to support our continued committment to breast health.
X-ALT-DESC;FMTTYPE=text/html:You are invited to a Multi-Chamber mixer for the Crystal Lake and Cary Chambers of Commerce\n<br>Cocktails and Hors d'oeuvres will be served\n<br>\n<br>RSVP by March 10 to:\n<br>cwember@centegra.com or 815-788-5867\n<br>\n<br>Serving as the hub for Centegra's breast health program.  The Center offers leading-edge technology\, education and emotional support for patients facing breast health issues.  Come meet our Associates and take a tour.  \n<br>\n<br>Please wear something pink to support our continued committment to breast health.   
LOCATION:Centegra Gavers Breast Center 360 North Terra Cotta Road Crystal Lake\, IL
UID:e.138.2505
SEQUENCE:3
DTSTAMP:20260423T145842Z
URL:https://business.carygrovechamber.com/events/details/centegra-gavers-chamber-mixer-03-15-2011-2505
END:VEVENT

END:VCALENDAR
