BEGIN:VCALENDAR
VERSION:2.0
PRODID:-//ChamberMaster//Event Calendar 2.0//EN
METHOD:PUBLISH
X-PUBLISHED-TTL:P3D
REFRESH-INTERVAL:P3D
CALSCALE:GREGORIAN
BEGIN:VEVENT
DTSTART;VALUE=DATE:20080712
DTEND;VALUE=DATE:20080713
TRANSP:TRANSPARENT
X-MICROSOFT-CDO-ALLDAYEVENT:TRUE
SUMMARY:Centegra Immediate Care Grand Opening Celebration
DESCRIPTION:Come celebrate the Grand Opening of Centegra Health Systems newest facility\, Centegra Immediate Care.  Enjoy games\, win prizes and tour this state-of-the-art medical building. Meet Chicago Storm soccer players and mascot\, enter drawings to win free VIP Storm game tickets\, free Jamba Juice and healthy food\, supervised rock climbing wall\, Teddy Bear clinic and music by Jeff and Paula from STAR 105.5. You can also get sports physicals for students in grades 6-12 for $20 with advanced appointments. Call 877-CENTEGRA to pre-register.
X-ALT-DESC;FMTTYPE=text/html:<div style="margin: 0in 0in 0pt"><font size="1"><span style="font-size: 11pt\; color: black">Come celebrate the Grand Opening of <strong>Centegra Health Systems</strong> newest facility\, Centegra Immediate Care.&nbsp\;</span><span style="font-size: 11pt\; color: black">&nbsp\;Enjoy games\, win prizes and tour this state-of-the-art medical building.&nbsp\;Meet Chicago Storm soccer players and mascot\, enter drawings to win free VIP Storm game tickets\, free Jamba Juice and healthy food\, supervised rock climbing wall\, Teddy Bear clinic and music by Jeff and Paula from <strong>STAR 105.5</strong>. You can also get sports physicals for students in grades 6-12 for $20 with advanced appointments.&nbsp\;Call 877-CENTEGRA to pre-register.&nbsp\;</span></font></div>
LOCATION:Centegra Immediate Care360 Station Drive\, Crystal Lake (behind Dominick's north of Route 14).
UID:e.138.269
SEQUENCE:3
DTSTAMP:20260425T121842Z
URL:https://business.carygrovechamber.com/events/details/centegra-immediate-care-grand-opening-celebration-07-12-2008-269
END:VEVENT

END:VCALENDAR
