BEGIN:VCALENDAR
VERSION:2.0
PRODID:-//ChamberMaster//Event Calendar 2.0//EN
METHOD:PUBLISH
X-PUBLISHED-TTL:P3D
REFRESH-INTERVAL:P3D
CALSCALE:GREGORIAN
BEGIN:VEVENT
DTSTART:20070520T010000Z
DTEND:20070520T020000Z
X-MICROSOFT-CDO-ALLDAYEVENT:FALSE
SUMMARY:CGPACtion's Student Choreographed Showcase!
DESCRIPTION:CGPACtion (a student service club at CGPAC) is hosting a Student Choreographed Showcase! It will consist of ten pieces which were all cast\, choreographed\, taught\, danced\, and costumed by students. Tickets are $10 and will be available at CGPAC after May 5th or at the door. All proceeds will go toward funding future projects. In addition to the $10 fee\, people should bring any gently used dance shoes they might have to donate.
X-ALT-DESC;FMTTYPE=text/html:CGPACtion (a student service club at CGPAC) is hosting a Student Choreographed Showcase! It will consist of ten pieces which were all cast\, choreographed\, taught\, danced\, and costumed by students. Tickets are $10 and will be available at CGPAC after May 5th or at the door. All proceeds will go toward funding future projects. In addition to the $10 fee\, people should bring any gently used dance shoes they might have to donate. 
LOCATION:Cary-Grove High School Auditorium 2208 W Three Oaks Road Cary IL\, 60013
UID:e.138.63
SEQUENCE:3
DTSTAMP:20260425T214737Z
URL:https://business.carygrovechamber.com/events/details/cgpaction-s-student-choreographed-showcase-05-19-2007-63
END:VEVENT

END:VCALENDAR
