BEGIN:VCALENDAR
VERSION:2.0
PRODID:-//ChamberMaster//Event Calendar 2.0//EN
METHOD:PUBLISH
X-PUBLISHED-TTL:P3D
REFRESH-INTERVAL:P3D
CALSCALE:GREGORIAN
BEGIN:VEVENT
DTSTART;VALUE=DATE:20090910
DTEND;VALUE=DATE:20090911
TRANSP:TRANSPARENT
X-MICROSOFT-CDO-ALLDAYEVENT:TRUE
SUMMARY:Chamber Golf Outing
DESCRIPTION:The Chambers 8th Annual Golf Outing is Thursday\, September 10 at Cary Country Club\, located at 2400 Grove Lane in Cary. The Outing begins with a shotgun start at 11 a.m. Cost is $125 and includes lunch\, dinner\, golf and two carts per foursome with a cash bar. Golfers who register by August 14 are eligible to win a free future foursome at Cary Country Club! This year's event will raise money for a great cause.  A portion of the proceeds will benefit the Cary-Grove Food Pantry.
X-ALT-DESC;FMTTYPE=text/html:<div>The Chambers 8th Annual Golf Outing is Thursday\, September 10 at Cary Country Club\, located at 2400 Grove Lane in Cary. The Outing begins with a shotgun start at 11 a.m. Cost is $125 and includes lunch\, dinner\,&nbsp\;golf and two carts per foursome with a cash bar. Golfers who register by August 14 are eligible to win a free future foursome at Cary Country Club! This year's&nbsp\;event will raise money for a great cause.&nbsp\; A portion of the proceeds will benefit the Cary-Grove Food Pantry.</div>
LOCATION:Cary Country Club2400 Grove Lane in Cary
UID:e.138.480
SEQUENCE:3
DTSTAMP:20260424T151115Z
URL:https://business.carygrovechamber.com/events/details/chamber-golf-outing-09-10-2009-480
END:VEVENT

END:VCALENDAR
