BEGIN:VCALENDAR
VERSION:2.0
PRODID:-//ChamberMaster//Event Calendar 2.0//EN
METHOD:PUBLISH
X-PUBLISHED-TTL:P3D
REFRESH-INTERVAL:P3D
CALSCALE:GREGORIAN
BEGIN:VEVENT
DTSTART:20071213T220000Z
DTEND:20071214T000000Z
X-MICROSOFT-CDO-ALLDAYEVENT:FALSE
SUMMARY:Chamber Holiday Open House
DESCRIPTION:Chamber Holiday Open House Join us for some Holiday Cheer!
X-ALT-DESC;FMTTYPE=text/html:<div>Chamber Holiday Open House</div><div>&nbsp\;</div><div>Join us for some Holiday Cheer!</div>
LOCATION:Cary Grove Chamber Office\, 27 E. Main (Route 14)\, Cary
UID:e.138.146
SEQUENCE:3
DTSTAMP:20260425T205209Z
URL:https://business.carygrovechamber.com/events/details/chamber-holiday-open-house-12-13-2007-146
END:VEVENT

END:VCALENDAR
