BEGIN:VCALENDAR
VERSION:2.0
PRODID:-//ChamberMaster//Event Calendar 2.0//EN
METHOD:PUBLISH
X-PUBLISHED-TTL:P3D
REFRESH-INTERVAL:P3D
CALSCALE:GREGORIAN
BEGIN:VEVENT
DTSTART:20100603T130000Z
DTEND:20100603T150000Z
X-MICROSOFT-CDO-ALLDAYEVENT:FALSE
SUMMARY:Chamber Member & Community Mixer at THE UPS Store
DESCRIPTION:Join the UPS Store of Fox River Grove and Cleaning Solutions of Cary for a Morning Breakfast Chamber Member and Community Mixer on Thursday\, June 3 from 8 - 10 a.m.  Come learn more about the services that The UPS Store and Cleaning Solutions has to offer.  Enjoy drinks\, food\, fun and door prizes\, too!
X-ALT-DESC;FMTTYPE=text/html:<div>Join the UPS Store of Fox River Grove and Cleaning Solutions of Cary for a Morning Breakfast Chamber Member and Community Mixer on Thursday\, June 3 from 8 - 10 a.m.&nbsp\; Come learn more about the services that The UPS Store and Cleaning Solutions has to offer.&nbsp\; Enjoy drinks\, food\, fun and door prizes\, too!</div>
LOCATION:The UPS Store 728 Northwest Hwy\, Fox River Grove IL
UID:e.138.755
SEQUENCE:3
DTSTAMP:20260424T031837Z
URL:https://business.carygrovechamber.com/events/details/chamber-member-community-mixer-at-the-ups-store-06-03-2010-755
END:VEVENT

END:VCALENDAR
