BEGIN:VCALENDAR
VERSION:2.0
PRODID:-//ChamberMaster//Event Calendar 2.0//EN
METHOD:PUBLISH
X-PUBLISHED-TTL:P3D
REFRESH-INTERVAL:P3D
CALSCALE:GREGORIAN
BEGIN:VEVENT
DTSTART:20080223T180000Z
DTEND:20080223T220000Z
X-MICROSOFT-CDO-ALLDAYEVENT:FALSE
SUMMARY:Chasin' Our Tails - OPEN HOUSE PARTY
DESCRIPTION:Come see what all the barking is about!  Chasin' Our Tails Doggy Daycare & Overnight Stay Facility is having an Open House "Pawty" so dog owner's can come take a tour and check us out.  Ron and Kathy will be on hand to answer any questions about their facility.   We will have area vendors on hand selling doggy items\, drawings\, free nail trims\, training tips\, dog food experts and more!  All friendly leashed dogs are welcome to attend.  Hope to see you there!
X-ALT-DESC;FMTTYPE=text/html:Come see what all the barking is about!  Chasin' Our Tails Doggy Daycare & Overnight Stay Facility is having an Open House "Pawty" so dog owner's can come take a tour and check us out.  Ron and Kathy will be on hand to answer any questions about their facility.   We will have area vendors on hand selling doggy items\, drawings\, free nail trims\, training tips\, dog food experts and more!  All friendly leashed dogs are welcome to attend.  Hope to see you there!
LOCATION:Chasin' Our Tails 766 Industrial Drive Cary\, Il 60013 847-516-0099
UID:e.138.203
SEQUENCE:3
DTSTAMP:20260425T193814Z
URL:https://business.carygrovechamber.com/events/details/chasin-our-tails-open-house-party-02-23-2008-203
END:VEVENT

END:VCALENDAR
