BEGIN:VCALENDAR
VERSION:2.0
PRODID:-//ChamberMaster//Event Calendar 2.0//EN
METHOD:PUBLISH
X-PUBLISHED-TTL:P3D
REFRESH-INTERVAL:P3D
CALSCALE:GREGORIAN
BEGIN:VEVENT
DTSTART:20080405T003000Z
DTEND:20080405T003000Z
X-MICROSOFT-CDO-ALLDAYEVENT:FALSE
SUMMARY:Cherryholmes
DESCRIPTION:?Cherryholmes II Black and White? debuts at the top of Billboard?s Bluegrass Chart. Considered America?s new first family of bluegrass\, Cherryholmes has stormed to the top of the bluegrass world by winning the 2005 International Bluegrass Music Association Award for Entertainer of the Year. This successful and endearing story begins and ends with a family dedicating themselves to plain\, old-fashioned hard work and a bit of talent. Cherryholmes? sound contains hard-driving instrumental virtuosity and explosive vocal harmonies.
X-ALT-DESC;FMTTYPE=text/html:?Cherryholmes II Black and White? debuts at the top of Billboard?s Bluegrass Chart. Considered America?s new first family of bluegrass\, Cherryholmes has stormed to the top of the bluegrass world by winning the 2005 International Bluegrass Music Association Award for Entertainer of the Year. This successful and endearing story begins and ends with a family dedicating themselves to plain\, old-fashioned hard work and a bit of talent. Cherryholmes? sound contains hard-driving instrumental virtuosity and explosive vocal harmonies.
LOCATION:Raue Center For The Arts 26 N. Williams Street Crystal Lake\, IL 60014
UID:e.138.170
SEQUENCE:3
DTSTAMP:20260425T165006Z
URL:https://business.carygrovechamber.com/events/details/cherryholmes-04-04-2008-170
END:VEVENT

END:VCALENDAR
