BEGIN:VCALENDAR
VERSION:2.0
PRODID:-//ChamberMaster//Event Calendar 2.0//EN
METHOD:PUBLISH
X-PUBLISHED-TTL:P3D
REFRESH-INTERVAL:P3D
CALSCALE:GREGORIAN
BEGIN:VEVENT
DTSTART:20100224T010000Z
DTEND:20100224T020000Z
X-MICROSOFT-CDO-ALLDAYEVENT:FALSE
SUMMARY:Children & ADD: A Natural Approach
DESCRIPTION:Dr. Barthen will be speaking on ADD and how if effects every aspect in a child's life and what can be done about it without drugs. Reserve your spot today.  Seats are limited.\n847-639-0010.
X-ALT-DESC;FMTTYPE=text/html:<div>Dr. Barthen will be speaking on ADD and how if effects every aspect in a child&rsquo\;s life and what can be done about it without drugs.</div><div>&nbsp\;</div><div>Reserve your spot today.&nbsp\; Seats are limited.<br /><span id="lw_1265232347_3" class="yshortcuts" style="border-bottom: #0066cc 1px dashed\; cursor: hand">847-639-0010</span>.</div>
LOCATION:Cary Chiropractic Offices 395 C Cary Algonquin Rd
UID:e.138.734
SEQUENCE:3
DTSTAMP:20260424T101132Z
URL:https://business.carygrovechamber.com/events/details/children-add-a-natural-approach-02-23-2010-734
END:VEVENT

END:VCALENDAR
